BEGIN:VCALENDAR
VERSION:2.0
PRODID:-//Canvas Artistry - ECPv6.15.20//NONSGML v1.0//EN
CALSCALE:GREGORIAN
METHOD:PUBLISH
X-ORIGINAL-URL:https://canvas-artistry.com
X-WR-CALDESC:Events for Canvas Artistry
REFRESH-INTERVAL;VALUE=DURATION:PT1H
X-Robots-Tag:noindex
X-PUBLISHED-TTL:PT1H
BEGIN:VTIMEZONE
TZID:America/Denver
BEGIN:DAYLIGHT
TZOFFSETFROM:-0700
TZOFFSETTO:-0600
TZNAME:MDT
DTSTART:20220313T090000
END:DAYLIGHT
BEGIN:STANDARD
TZOFFSETFROM:-0600
TZOFFSETTO:-0700
TZNAME:MST
DTSTART:20221106T080000
END:STANDARD
BEGIN:DAYLIGHT
TZOFFSETFROM:-0700
TZOFFSETTO:-0600
TZNAME:MDT
DTSTART:20230312T090000
END:DAYLIGHT
BEGIN:STANDARD
TZOFFSETFROM:-0600
TZOFFSETTO:-0700
TZNAME:MST
DTSTART:20231105T080000
END:STANDARD
BEGIN:DAYLIGHT
TZOFFSETFROM:-0700
TZOFFSETTO:-0600
TZNAME:MDT
DTSTART:20240310T090000
END:DAYLIGHT
BEGIN:STANDARD
TZOFFSETFROM:-0600
TZOFFSETTO:-0700
TZNAME:MST
DTSTART:20241103T080000
END:STANDARD
BEGIN:DAYLIGHT
TZOFFSETFROM:-0700
TZOFFSETTO:-0600
TZNAME:MDT
DTSTART:20250309T090000
END:DAYLIGHT
BEGIN:STANDARD
TZOFFSETFROM:-0600
TZOFFSETTO:-0700
TZNAME:MST
DTSTART:20251102T080000
END:STANDARD
BEGIN:DAYLIGHT
TZOFFSETFROM:-0700
TZOFFSETTO:-0600
TZNAME:MDT
DTSTART:20260308T090000
END:DAYLIGHT
BEGIN:STANDARD
TZOFFSETFROM:-0600
TZOFFSETTO:-0700
TZNAME:MST
DTSTART:20261101T080000
END:STANDARD
END:VTIMEZONE
BEGIN:VEVENT
DTSTART;TZID=America/Denver:20251017T080000
DTEND;TZID=America/Denver:20251017T170000
DTSTAMP:20260423T185745
CREATED:20250926T195800Z
LAST-MODIFIED:20250926T195800Z
UID:9518-1760688000-1760720400@canvas-artistry.com
SUMMARY:DJ CELLO   &   DJ MILES B
DESCRIPTION:
URL:https://canvas-artistry.com/event/dj-cello-dj-miles-b/
CATEGORIES:DJ Music,Live Music
END:VEVENT
BEGIN:VEVENT
DTSTART;TZID=America/Denver:20251012T120000
DTEND;TZID=America/Denver:20251012T163000
DTSTAMP:20260423T185745
CREATED:20240104T191244Z
LAST-MODIFIED:20250926T184804Z
UID:6578-1760270400-1760286600@canvas-artistry.com
SUMMARY:DJ CELLO
DESCRIPTION:
URL:https://canvas-artistry.com/event/dj-cello-2024-02-25/
CATEGORIES:DJ Music
ATTACH;FMTTYPE=image/jpeg:https://canvas-artistry.com/wp-content/uploads/2022/06/0-1.jpg
END:VEVENT
BEGIN:VEVENT
DTSTART;TZID=America/Denver:20250928T120000
DTEND;TZID=America/Denver:20250928T160000
DTSTAMP:20260423T185745
CREATED:20240104T191244Z
LAST-MODIFIED:20250826T224214Z
UID:6745-1759060800-1759075200@canvas-artistry.com
SUMMARY:DJ CELLO
DESCRIPTION:
URL:https://canvas-artistry.com/event/dj-cello-2024-01-14-2025-03-02/
CATEGORIES:DJ Music
ATTACH;FMTTYPE=image/jpeg:https://canvas-artistry.com/wp-content/uploads/2022/06/0-1.jpg
END:VEVENT
BEGIN:VEVENT
DTSTART;TZID=America/Denver:20250921T120000
DTEND;TZID=America/Denver:20250921T160000
DTSTAMP:20260423T185745
CREATED:20240104T191244Z
LAST-MODIFIED:20250826T224128Z
UID:6765-1758456000-1758470400@canvas-artistry.com
SUMMARY:DJ CELLO
DESCRIPTION:
URL:https://canvas-artistry.com/event/dj-cello-2026-01-04/
CATEGORIES:DJ Music
ATTACH;FMTTYPE=image/jpeg:https://canvas-artistry.com/wp-content/uploads/2022/06/0-1.jpg
END:VEVENT
BEGIN:VEVENT
DTSTART;TZID=America/Denver:20250831T173000
DTEND;TZID=America/Denver:20250831T203000
DTSTAMP:20260423T185745
CREATED:20230919T203946Z
LAST-MODIFIED:20250801T202240Z
UID:5118-1756661400-1756672200@canvas-artistry.com
SUMMARY:DJ Mel Man
DESCRIPTION:
URL:https://canvas-artistry.com/event/dj-mel-man/
CATEGORIES:DJ Music
ATTACH;FMTTYPE=image/png:https://canvas-artistry.com/wp-content/uploads/2022/06/0-1.png
END:VEVENT
BEGIN:VEVENT
DTSTART;TZID=America/Denver:20250824T163000
DTEND;TZID=America/Denver:20250824T200000
DTSTAMP:20260423T185745
CREATED:20230420T182857Z
LAST-MODIFIED:20250801T195904Z
UID:3945-1756053000-1756065600@canvas-artistry.com
SUMMARY:DJ Diamond Tip
DESCRIPTION:
URL:https://canvas-artistry.com/event/dj-diamond-tip-2/
CATEGORIES:DJ Music
ATTACH;FMTTYPE=image/jpeg:https://canvas-artistry.com/wp-content/uploads/2024/02/thumbnail_image7.jpg
END:VEVENT
BEGIN:VEVENT
DTSTART;TZID=America/Denver:20250817T163000
DTEND;TZID=America/Denver:20250817T200000
DTSTAMP:20260423T185745
CREATED:20240725T174228Z
LAST-MODIFIED:20250731T211616Z
UID:7120-1755448200-1755460800@canvas-artistry.com
SUMMARY:DJ Mel Man
DESCRIPTION:
URL:https://canvas-artistry.com/event/dj-mel-man-2/
CATEGORIES:DJ Music
ATTACH;FMTTYPE=image/png:https://canvas-artistry.com/wp-content/uploads/2022/06/0-1.png
END:VEVENT
BEGIN:VEVENT
DTSTART;TZID=America/Denver:20250815T210000
DTEND;TZID=America/Denver:20250816T013000
DTSTAMP:20260423T185745
CREATED:20240725T205217Z
LAST-MODIFIED:20250731T210943Z
UID:7129-1755291600-1755307800@canvas-artistry.com
SUMMARY:Dj Diamond Tip
DESCRIPTION:
URL:https://canvas-artistry.com/event/dj-diamond-tip-4/
CATEGORIES:DJ Music
ATTACH;FMTTYPE=image/jpeg:https://canvas-artistry.com/wp-content/uploads/2024/02/168454849_148313770631701_2212056477929728984_n.jpg
END:VEVENT
BEGIN:VEVENT
DTSTART;TZID=America/Denver:20250809T110000
DTEND;TZID=America/Denver:20250809T150000
DTSTAMP:20260423T185745
CREATED:20250731T205807Z
LAST-MODIFIED:20250731T205807Z
UID:9457-1754737200-1754751600@canvas-artistry.com
SUMMARY:BIEBER BRUNCH
DESCRIPTION:
URL:https://canvas-artistry.com/event/bieber-brunch/
CATEGORIES:DJ Music
ATTACH;FMTTYPE=image/png:https://canvas-artistry.com/wp-content/uploads/2025/07/unnamed.png
END:VEVENT
BEGIN:VEVENT
DTSTART;TZID=America/Denver:20250803T163000
DTEND;TZID=America/Denver:20250803T200000
DTSTAMP:20260423T185745
CREATED:20230202T221250Z
LAST-MODIFIED:20250730T195202Z
UID:3051-1754238600-1754251200@canvas-artistry.com
SUMMARY:DJ Diamond Tip
DESCRIPTION:
URL:https://canvas-artistry.com/event/dj-diamond-tip/
CATEGORIES:DJ Music
ATTACH;FMTTYPE=image/jpeg:https://canvas-artistry.com/wp-content/uploads/2023/03/image0.jpeg
END:VEVENT
BEGIN:VEVENT
DTSTART;TZID=America/Denver:20250627T210000
DTEND;TZID=America/Denver:20250628T013000
DTSTAMP:20260423T185745
CREATED:20230323T193409Z
LAST-MODIFIED:20250513T205842Z
UID:3720-1751058000-1751074200@canvas-artistry.com
SUMMARY:DJ Q
DESCRIPTION:
URL:https://canvas-artistry.com/event/dj-q/
CATEGORIES:DJ Music
ATTACH;FMTTYPE=image/jpeg:https://canvas-artistry.com/wp-content/uploads/2024/07/image5.jpeg
END:VEVENT
BEGIN:VEVENT
DTSTART;TZID=America/Denver:20250523T210000
DTEND;TZID=America/Denver:20250524T013000
DTSTAMP:20260423T185745
CREATED:20231026T185113Z
LAST-MODIFIED:20250417T191812Z
UID:5458-1748034000-1748050200@canvas-artistry.com
SUMMARY:Dj Diamond Tip
DESCRIPTION:
URL:https://canvas-artistry.com/event/dj-diamond-tip-3/
CATEGORIES:DJ Music
ATTACH;FMTTYPE=image/jpeg:https://canvas-artistry.com/wp-content/uploads/2024/02/thumbnail_image7.jpg
END:VEVENT
BEGIN:VEVENT
DTSTART;TZID=America/Denver:20250511T120000
DTEND;TZID=America/Denver:20250511T160000
DTSTAMP:20260423T185745
CREATED:20241031T211740Z
LAST-MODIFIED:20250417T185822Z
UID:9035-1746964800-1746979200@canvas-artistry.com
SUMMARY:DJ Q
DESCRIPTION:
URL:https://canvas-artistry.com/event/dj-q-4/
CATEGORIES:DJ Music
ATTACH;FMTTYPE=image/jpeg:https://canvas-artistry.com/wp-content/uploads/2023/03/thumbnail_image0.jpg
END:VEVENT
BEGIN:VEVENT
DTSTART;TZID=America/Denver:20250509T210000
DTEND;TZID=America/Denver:20250510T013000
DTSTAMP:20260423T185745
CREATED:20220623T191356Z
LAST-MODIFIED:20250417T190059Z
UID:1793-1746824400-1746840600@canvas-artistry.com
SUMMARY:DJ Q
DESCRIPTION:
URL:https://canvas-artistry.com/event/dj-wae-fonkey-2-2023-03-10/
CATEGORIES:DJ Music
ATTACH;FMTTYPE=image/jpeg:https://canvas-artistry.com/wp-content/uploads/2023/03/thumbnail_image0.jpg
END:VEVENT
BEGIN:VEVENT
DTSTART;VALUE=DATE:20241231
DTEND;VALUE=DATE:20250101
DTSTAMP:20260423T185745
CREATED:20241126T212901Z
LAST-MODIFIED:20241205T212427Z
UID:9057-1735603200-1735689599@canvas-artistry.com
SUMMARY:NEW YEARS EVE PARTY
DESCRIPTION:
URL:https://canvas-artistry.com/event/new-years-eve-party/
CATEGORIES:DJ Music,Live Music
ATTACH;FMTTYPE=image/jpeg:https://canvas-artistry.com/wp-content/uploads/2024/12/DD7E0E46-AFB9-4D7E-8303-50C7AD7A052D.jpeg
END:VEVENT
BEGIN:VEVENT
DTSTART;TZID=America/Denver:20241222T173000
DTEND;TZID=America/Denver:20241222T203000
DTSTAMP:20260423T185745
CREATED:20240822T183919Z
LAST-MODIFIED:20241126T210749Z
UID:7169-1734888600-1734899400@canvas-artistry.com
SUMMARY:DJ Kid Official
DESCRIPTION:
URL:https://canvas-artistry.com/event/dj-kid-official-2/
CATEGORIES:DJ Music
ATTACH;FMTTYPE=image/jpeg:https://canvas-artistry.com/wp-content/uploads/2024/07/image2.jpeg
END:VEVENT
BEGIN:VEVENT
DTSTART;TZID=America/Denver:20241117T170000
DTEND;TZID=America/Denver:20241117T200000
DTSTAMP:20260423T185745
CREATED:20240822T194613Z
LAST-MODIFIED:20241031T213829Z
UID:7171-1731862800-1731873600@canvas-artistry.com
SUMMARY:DJ Kid Official
DESCRIPTION:
URL:https://canvas-artistry.com/event/dj-kid-official-3/
CATEGORIES:DJ Music
ATTACH;FMTTYPE=image/jpeg:https://canvas-artistry.com/wp-content/uploads/2024/07/image2.jpeg
END:VEVENT
BEGIN:VEVENT
DTSTART;TZID=America/Denver:20241031T210000
DTEND;TZID=America/Denver:20241101T013000
DTSTAMP:20260423T185745
CREATED:20241029T211901Z
LAST-MODIFIED:20241029T211901Z
UID:9027-1730408400-1730424600@canvas-artistry.com
SUMMARY:Night of the Living Bass Halloween Party
DESCRIPTION:
URL:https://canvas-artistry.com/event/night-of-the-living-bass-halloween-party/
CATEGORIES:DJ Music
ATTACH;FMTTYPE=image/jpeg:https://canvas-artistry.com/wp-content/uploads/2024/10/IMG_5618.jpeg
END:VEVENT
BEGIN:VEVENT
DTSTART;TZID=America/Denver:20240825T173000
DTEND;TZID=America/Denver:20240825T203000
DTSTAMP:20260423T185745
CREATED:20230811T195236Z
LAST-MODIFIED:20240725T205621Z
UID:4803-1724607000-1724617800@canvas-artistry.com
SUMMARY:DJ Kid Official
DESCRIPTION:
URL:https://canvas-artistry.com/event/dj-q-3/
CATEGORIES:DJ Music
ATTACH;FMTTYPE=image/jpeg:https://canvas-artistry.com/wp-content/uploads/2024/07/image2.jpeg
END:VEVENT
BEGIN:VEVENT
DTSTART;TZID=America/Denver:20240811T173000
DTEND;TZID=America/Denver:20240812T083000
DTSTAMP:20260423T185745
CREATED:20220623T191356Z
LAST-MODIFIED:20240725T180818Z
UID:1794-1723397400-1723451400@canvas-artistry.com
SUMMARY:Dj Diamond Tip
DESCRIPTION:
URL:https://canvas-artistry.com/event/dj-wae-fonkey-2-2023-03-17/
CATEGORIES:DJ Music
ATTACH;FMTTYPE=image/jpeg:https://canvas-artistry.com/wp-content/uploads/2023/03/image0.jpeg
END:VEVENT
BEGIN:VEVENT
DTSTART;TZID=America/Denver:20240615T120000
DTEND;TZID=America/Denver:20240615T170000
DTSTAMP:20260423T185745
CREATED:20240606T195908Z
LAST-MODIFIED:20240606T201648Z
UID:7093-1718452800-1718470800@canvas-artistry.com
SUMMARY:NMX STANDARD ART SHOW
DESCRIPTION:
URL:https://canvas-artistry.com/event/nmx-standard-art-show/
CATEGORIES:DJ Music
ATTACH;FMTTYPE=image/jpeg:https://canvas-artistry.com/wp-content/uploads/2024/06/image_123650291.jpg
END:VEVENT
BEGIN:VEVENT
DTSTART;TZID=America/Denver:20240614T210000
DTEND;TZID=America/Denver:20240615T010000
DTSTAMP:20260423T185745
CREATED:20240510T181556Z
LAST-MODIFIED:20240510T181556Z
UID:7086-1718398800-1718413200@canvas-artistry.com
SUMMARY:DJ Cello and DJ Scientific
DESCRIPTION:
URL:https://canvas-artistry.com/event/dj-cello-and-dj-scientific/
CATEGORIES:DJ Music
ATTACH;FMTTYPE=image/jpeg:https://canvas-artistry.com/wp-content/uploads/2022/06/0-1.jpg
END:VEVENT
BEGIN:VEVENT
DTSTART;TZID=America/Denver:20240531T210000
DTEND;TZID=America/Denver:20240601T010000
DTSTAMP:20260423T185745
CREATED:20240425T192921Z
LAST-MODIFIED:20240425T192921Z
UID:7077-1717189200-1717203600@canvas-artistry.com
SUMMARY:DJ Q / DJ Mischievous
DESCRIPTION:
URL:https://canvas-artistry.com/event/dj-q-dj-mischievous-2/
CATEGORIES:DJ Music
ATTACH;FMTTYPE=image/jpeg:https://canvas-artistry.com/wp-content/uploads/2024/04/image0-2.jpeg
END:VEVENT
BEGIN:VEVENT
DTSTART;TZID=America/Denver:20240426T210000
DTEND;TZID=America/Denver:20240427T010000
DTSTAMP:20260423T185745
CREATED:20240404T175304Z
LAST-MODIFIED:20240404T175348Z
UID:6935-1714165200-1714179600@canvas-artistry.com
SUMMARY:DJ Mel Man / DJ Element
DESCRIPTION:
URL:https://canvas-artistry.com/event/dj-mel-man-dj-element/
CATEGORIES:DJ Music
ATTACH;FMTTYPE=image/jpeg:https://canvas-artistry.com/wp-content/uploads/2024/04/image.jpeg
END:VEVENT
BEGIN:VEVENT
DTSTART;TZID=America/Denver:20240202T210000
DTEND;TZID=America/Denver:20240203T013000
DTSTAMP:20260423T185745
CREATED:20230622T192442Z
LAST-MODIFIED:20240203T024730Z
UID:4634-1706907600-1706923800@canvas-artistry.com
SUMMARY:DJ Q & Kid
DESCRIPTION:
URL:https://canvas-artistry.com/event/dj-q-2/
CATEGORIES:DJ Music
ATTACH;FMTTYPE=image/jpeg:https://canvas-artistry.com/wp-content/uploads/2024/02/thumbnail_image10.jpg
END:VEVENT
BEGIN:VEVENT
DTSTART;TZID=America/Denver:20231231T120000
DTEND;TZID=America/Denver:20231231T170000
DTSTAMP:20260423T185745
CREATED:20231228T223818Z
LAST-MODIFIED:20231228T223818Z
UID:5636-1704024000-1704042000@canvas-artistry.com
SUMMARY:NEW YEARS EVE BRUNCH PARTY
DESCRIPTION:
URL:https://canvas-artistry.com/event/new-years-eve-brunch-party/
CATEGORIES:DJ Music
END:VEVENT
BEGIN:VEVENT
DTSTART;VALUE=DATE:20231231
DTEND;VALUE=DATE:20240101
DTSTAMP:20260423T185745
CREATED:20231130T200822Z
LAST-MODIFIED:20231130T201119Z
UID:5586-1703980800-1704067199@canvas-artistry.com
SUMMARY:New Years Party
DESCRIPTION:
URL:https://canvas-artistry.com/event/new-years-party/
CATEGORIES:DJ Music,Live Music
ATTACH;FMTTYPE=image/jpeg:https://canvas-artistry.com/wp-content/uploads/2023/11/image1.jpeg
END:VEVENT
BEGIN:VEVENT
DTSTART;TZID=America/Denver:20231123T190000
DTEND;TZID=America/Denver:20231124T000000
DTSTAMP:20260423T185745
CREATED:20231026T182114Z
LAST-MODIFIED:20231026T190717Z
UID:5291-1700766000-1700784000@canvas-artistry.com
SUMMARY:CLOSED FOR THANKSGIVING
DESCRIPTION:
URL:https://canvas-artistry.com/event/speed-one-2023-11-23/
CATEGORIES:DJ Music
ATTACH;FMTTYPE=image/jpeg:https://canvas-artistry.com/wp-content/uploads/2023/10/stores-closed-thanksgiving-2020-jpg.jpg
END:VEVENT
BEGIN:VEVENT
DTSTART;TZID=America/Denver:20231021T140000
DTEND;TZID=America/Denver:20231021T180000
DTSTAMP:20260423T185745
CREATED:20231021T010624Z
LAST-MODIFIED:20231021T010624Z
UID:5172-1697896800-1697911200@canvas-artistry.com
SUMMARY:BERIMBAU DE OURO
DESCRIPTION:
URL:https://canvas-artistry.com/event/berimbau-de-ouro/
CATEGORIES:DJ Music
END:VEVENT
BEGIN:VEVENT
DTSTART;TZID=America/Denver:20230720T190000
DTEND;TZID=America/Denver:20230720T233000
DTSTAMP:20260423T185745
CREATED:20230713T190346Z
LAST-MODIFIED:20230713T190346Z
UID:4671-1689879600-1689895800@canvas-artistry.com
SUMMARY:Picante Tuesdays
DESCRIPTION:
URL:https://canvas-artistry.com/event/picante-tuesdays-2023-07-20/
CATEGORIES:DJ Music
END:VEVENT
END:VCALENDAR