BEGIN:VCALENDAR
VERSION:2.0
PRODID:-//Canvas Artistry - ECPv6.15.20//NONSGML v1.0//EN
CALSCALE:GREGORIAN
METHOD:PUBLISH
X-ORIGINAL-URL:https://canvas-artistry.com
X-WR-CALDESC:Events for Canvas Artistry
REFRESH-INTERVAL;VALUE=DURATION:PT1H
X-Robots-Tag:noindex
X-PUBLISHED-TTL:PT1H
BEGIN:VTIMEZONE
TZID:America/Denver
BEGIN:DAYLIGHT
TZOFFSETFROM:-0700
TZOFFSETTO:-0600
TZNAME:MDT
DTSTART:20230312T090000
END:DAYLIGHT
BEGIN:STANDARD
TZOFFSETFROM:-0600
TZOFFSETTO:-0700
TZNAME:MST
DTSTART:20231105T080000
END:STANDARD
BEGIN:DAYLIGHT
TZOFFSETFROM:-0700
TZOFFSETTO:-0600
TZNAME:MDT
DTSTART:20240310T090000
END:DAYLIGHT
BEGIN:STANDARD
TZOFFSETFROM:-0600
TZOFFSETTO:-0700
TZNAME:MST
DTSTART:20241103T080000
END:STANDARD
BEGIN:DAYLIGHT
TZOFFSETFROM:-0700
TZOFFSETTO:-0600
TZNAME:MDT
DTSTART:20250309T090000
END:DAYLIGHT
BEGIN:STANDARD
TZOFFSETFROM:-0600
TZOFFSETTO:-0700
TZNAME:MST
DTSTART:20251102T080000
END:STANDARD
BEGIN:DAYLIGHT
TZOFFSETFROM:-0700
TZOFFSETTO:-0600
TZNAME:MDT
DTSTART:20260308T090000
END:DAYLIGHT
BEGIN:STANDARD
TZOFFSETFROM:-0600
TZOFFSETTO:-0700
TZNAME:MST
DTSTART:20261101T080000
END:STANDARD
END:VTIMEZONE
BEGIN:VEVENT
DTSTART;TZID=America/Denver:20251107T173000
DTEND;TZID=America/Denver:20251107T203000
DTSTAMP:20260423T171838
CREATED:20230126T211309Z
LAST-MODIFIED:20251029T210254Z
UID:2763-1762536600-1762547400@canvas-artistry.com
SUMMARY:Rodney Bowe
DESCRIPTION:
URL:https://canvas-artistry.com/event/rodney-bowe-7/
CATEGORIES:Live Music
ATTACH;FMTTYPE=image/jpeg:https://canvas-artistry.com/wp-content/uploads/2024/02/thumbnail_image0-1-1.jpg
END:VEVENT
BEGIN:VEVENT
DTSTART;VALUE=DATE:20251102
DTEND;VALUE=DATE:20251103
DTSTAMP:20260423T171838
CREATED:20251029T172124Z
LAST-MODIFIED:20251029T172124Z
UID:9533-1762041600-1762127999@canvas-artistry.com
SUMMARY:ALL SOULS DAY CELEBRATION
DESCRIPTION:
URL:https://canvas-artistry.com/event/all-souls-day-celebration/
CATEGORIES:DJ Music,Live Music
ATTACH;FMTTYPE=image/heic:https://canvas-artistry.com/wp-content/uploads/2025/10/All-Souls-Day-1_Back.heic
END:VEVENT
BEGIN:VEVENT
DTSTART;TZID=America/Denver:20251031T173000
DTEND;TZID=America/Denver:20251031T203000
DTSTAMP:20260423T171838
CREATED:20250926T201428Z
LAST-MODIFIED:20250926T201428Z
UID:9523-1761931800-1761942600@canvas-artistry.com
SUMMARY:GROOVE TYME
DESCRIPTION:
URL:https://canvas-artistry.com/event/groove-tyme/
CATEGORIES:Live Music
END:VEVENT
BEGIN:VEVENT
DTSTART;TZID=America/Denver:20251025T173000
DTEND;TZID=America/Denver:20251025T203000
DTSTAMP:20260423T171838
CREATED:20250926T201245Z
LAST-MODIFIED:20250926T201245Z
UID:9521-1761413400-1761424200@canvas-artistry.com
SUMMARY:SWAG BAND
DESCRIPTION:
URL:https://canvas-artistry.com/event/swag-band/
CATEGORIES:Live Music
END:VEVENT
BEGIN:VEVENT
DTSTART;TZID=America/Denver:20251018T173000
DTEND;TZID=America/Denver:20251018T203000
DTSTAMP:20260423T171838
CREATED:20221110T204919Z
LAST-MODIFIED:20250926T200351Z
UID:1430-1760808600-1760819400@canvas-artistry.com
SUMMARY:Chillhouse with Hillary Smith
DESCRIPTION:
URL:https://canvas-artistry.com/event/chillhouse-with-hillary-smith-3/
CATEGORIES:Live Music
ATTACH;FMTTYPE=image/jpeg:https://canvas-artistry.com/wp-content/uploads/2024/02/thumbnail_image9.jpg
END:VEVENT
BEGIN:VEVENT
DTSTART;TZID=America/Denver:20251017T080000
DTEND;TZID=America/Denver:20251017T170000
DTSTAMP:20260423T171838
CREATED:20250926T195800Z
LAST-MODIFIED:20250926T195800Z
UID:9518-1760688000-1760720400@canvas-artistry.com
SUMMARY:DJ CELLO   &   DJ MILES B
DESCRIPTION:
URL:https://canvas-artistry.com/event/dj-cello-dj-miles-b/
CATEGORIES:DJ Music,Live Music
END:VEVENT
BEGIN:VEVENT
DTSTART;TZID=America/Denver:20251010T173000
DTEND;TZID=America/Denver:20251010T203000
DTSTAMP:20260423T171838
CREATED:20230223T204513Z
LAST-MODIFIED:20250926T190344Z
UID:3130-1760117400-1760128200@canvas-artistry.com
SUMMARY:Rodney Bowe
DESCRIPTION:
URL:https://canvas-artistry.com/event/rodney-bowe-10/
CATEGORIES:Live Music
ATTACH;FMTTYPE=image/jpeg:https://canvas-artistry.com/wp-content/uploads/2023/04/image0.jpeg
END:VEVENT
BEGIN:VEVENT
DTSTART;TZID=America/Denver:20251004T173000
DTEND;TZID=America/Denver:20251004T203000
DTSTAMP:20260423T171838
CREATED:20250926T174722Z
LAST-MODIFIED:20250926T174722Z
UID:9515-1759599000-1759609800@canvas-artistry.com
SUMMARY:JUST INCREDIBLE
DESCRIPTION:
URL:https://canvas-artistry.com/event/just-incredible/
CATEGORIES:Live Music
END:VEVENT
BEGIN:VEVENT
DTSTART;TZID=America/Denver:20250920T173000
DTEND;TZID=America/Denver:20250920T203000
DTSTAMP:20260423T171838
CREATED:20250417T204017Z
LAST-MODIFIED:20250826T223939Z
UID:9124-1758389400-1758400200@canvas-artistry.com
SUMMARY:Stirred not Shaken
DESCRIPTION:
URL:https://canvas-artistry.com/event/stirred-not-shaken/
CATEGORIES:Live Music
ATTACH;FMTTYPE=image/jpeg:https://canvas-artistry.com/wp-content/uploads/2025/04/unnamed-scaled.jpg
END:VEVENT
BEGIN:VEVENT
DTSTART;TZID=America/Denver:20250919T173000
DTEND;TZID=America/Denver:20250919T203000
DTSTAMP:20260423T171838
CREATED:20250826T224830Z
LAST-MODIFIED:20250826T224830Z
UID:9464-1758303000-1758313800@canvas-artistry.com
SUMMARY:FUNK REVIVAL
DESCRIPTION:
URL:https://canvas-artistry.com/event/funk-revival/
CATEGORIES:Live Music
END:VEVENT
BEGIN:VEVENT
DTSTART;TZID=America/Denver:20250905T173000
DTEND;TZID=America/Denver:20250905T203000
DTSTAMP:20260423T171838
CREATED:20240510T202618Z
LAST-MODIFIED:20250826T215926Z
UID:7088-1757093400-1757104200@canvas-artistry.com
SUMMARY:Lo Phat
DESCRIPTION:
URL:https://canvas-artistry.com/event/lo-phat/
CATEGORIES:Live Music
ATTACH;FMTTYPE=image/png:https://canvas-artistry.com/wp-content/uploads/2024/02/Color-2023.png
END:VEVENT
BEGIN:VEVENT
DTSTART;TZID=America/Denver:20250815T173000
DTEND;TZID=America/Denver:20250815T203000
DTSTAMP:20260423T171838
CREATED:20241031T215103Z
LAST-MODIFIED:20250731T210803Z
UID:9044-1755279000-1755289800@canvas-artistry.com
SUMMARY:Lo Phat
DESCRIPTION:
URL:https://canvas-artistry.com/event/lo-phat-2/
CATEGORIES:Live Music
ATTACH;FMTTYPE=image/png:https://canvas-artistry.com/wp-content/uploads/2024/02/Color-2023.png
END:VEVENT
BEGIN:VEVENT
DTSTART;TZID=America/Denver:20250809T173000
DTEND;TZID=America/Denver:20250809T203000
DTSTAMP:20260423T171838
CREATED:20250403T203041Z
LAST-MODIFIED:20250731T041946Z
UID:9107-1754760600-1754771400@canvas-artistry.com
SUMMARY:Stirred not Shaken
DESCRIPTION:
URL:https://canvas-artistry.com/event/stirred/
CATEGORIES:Live Music
ATTACH;FMTTYPE=image/jpeg:https://canvas-artistry.com/wp-content/uploads/2025/04/image0-1.jpeg
END:VEVENT
BEGIN:VEVENT
DTSTART;TZID=America/Denver:20250808T173000
DTEND;TZID=America/Denver:20250808T203000
DTSTAMP:20260423T171838
CREATED:20230104T230404Z
LAST-MODIFIED:20250730T214333Z
UID:2351-1754674200-1754685000@canvas-artistry.com
SUMMARY:Hicks and Fowler
DESCRIPTION:
URL:https://canvas-artistry.com/event/hicks-and-fowler/
CATEGORIES:Live Music
ATTACH;FMTTYPE=image/jpeg:https://canvas-artistry.com/wp-content/uploads/2023/02/image2.jpeg
END:VEVENT
BEGIN:VEVENT
DTSTART;TZID=America/Denver:20250705T173000
DTEND;TZID=America/Denver:20250705T203000
DTSTAMP:20260423T171838
CREATED:20250619T180025Z
LAST-MODIFIED:20250619T183133Z
UID:9142-1751736600-1751747400@canvas-artistry.com
SUMMARY:MOTHER ROAD BAND
DESCRIPTION:
URL:https://canvas-artistry.com/event/mother-road-band/
CATEGORIES:Live Music
ATTACH;FMTTYPE=image/jpeg:https://canvas-artistry.com/wp-content/uploads/2025/06/image0.jpeg
END:VEVENT
BEGIN:VEVENT
DTSTART;TZID=America/Denver:20250502T173000
DTEND;TZID=America/Denver:20250502T203000
DTSTAMP:20260423T171838
CREATED:20230919T205644Z
LAST-MODIFIED:20250417T183231Z
UID:5120-1746207000-1746217800@canvas-artistry.com
SUMMARY:Night Moves
DESCRIPTION:
URL:https://canvas-artistry.com/event/night-moves-3/
CATEGORIES:Live Music
ATTACH;FMTTYPE=image/jpeg:https://canvas-artistry.com/wp-content/uploads/2023/08/293014433_440657394734479_4459500408401424641_n.jpg
END:VEVENT
BEGIN:VEVENT
DTSTART;TZID=America/Denver:20250328T173000
DTEND;TZID=America/Denver:20250328T203000
DTSTAMP:20260423T171838
CREATED:20221229T210249Z
LAST-MODIFIED:20250220T215042Z
UID:2302-1743183000-1743193800@canvas-artistry.com
SUMMARY:Park 21
DESCRIPTION:
URL:https://canvas-artistry.com/event/park-21/
CATEGORIES:Live Music
ATTACH;FMTTYPE=image/jpeg:https://canvas-artistry.com/wp-content/uploads/2022/06/Screenshot_20220623-122732_Facebook.jpg
END:VEVENT
BEGIN:VEVENT
DTSTART;TZID=America/Denver:20250322T173000
DTEND;TZID=America/Denver:20250322T203000
DTSTAMP:20260423T171838
CREATED:20250107T222158Z
LAST-MODIFIED:20250220T214907Z
UID:9066-1742664600-1742675400@canvas-artistry.com
SUMMARY:Sour Acoustic Duo
DESCRIPTION:
URL:https://canvas-artistry.com/event/sour-acoustic-duo/
CATEGORIES:Live Music
ATTACH;FMTTYPE=image/jpeg:https://canvas-artistry.com/wp-content/uploads/2025/01/FB_IMG_1736287750246.jpg
END:VEVENT
BEGIN:VEVENT
DTSTART;TZID=America/Denver:20250314T173000
DTEND;TZID=America/Denver:20250314T203000
DTSTAMP:20260423T171838
CREATED:20250114T192010Z
LAST-MODIFIED:20250220T213651Z
UID:9071-1741973400-1741984200@canvas-artistry.com
SUMMARY:Sour Acoustic Duo
DESCRIPTION:
URL:https://canvas-artistry.com/event/sour-acoustic-duo-2/
CATEGORIES:Live Music
ATTACH;FMTTYPE=image/jpeg:https://canvas-artistry.com/wp-content/uploads/2025/01/FB_IMG_1736287750246.jpg
END:VEVENT
BEGIN:VEVENT
DTSTART;TZID=America/Denver:20250222T173000
DTEND;TZID=America/Denver:20250222T203000
DTSTAMP:20260423T171838
CREATED:20250114T223436Z
LAST-MODIFIED:20250114T223436Z
UID:9079-1740245400-1740256200@canvas-artistry.com
SUMMARY:Sour Acoustic Duo
DESCRIPTION:
URL:https://canvas-artistry.com/event/sour-acoustic-duo-3/
CATEGORIES:Live Music
ATTACH;FMTTYPE=image/jpeg:https://canvas-artistry.com/wp-content/uploads/2025/01/FB_IMG_1736287750246.jpg
END:VEVENT
BEGIN:VEVENT
DTSTART;TZID=America/Denver:20250117T193000
DTEND;TZID=America/Denver:20250117T213000
DTSTAMP:20260423T171838
CREATED:20250107T221414Z
LAST-MODIFIED:20250116T185814Z
UID:9064-1737142200-1737149400@canvas-artistry.com
SUMMARY:Baracutanga
DESCRIPTION:
URL:https://canvas-artistry.com/event/baracutanga/
CATEGORIES:Live Music
ATTACH;FMTTYPE=image/jpeg:https://canvas-artistry.com/wp-content/uploads/2025/01/thumbnail_image0.jpg
END:VEVENT
BEGIN:VEVENT
DTSTART;TZID=America/Denver:20250111T173000
DTEND;TZID=America/Denver:20250111T203000
DTSTAMP:20260423T171838
CREATED:20230104T230116Z
LAST-MODIFIED:20250107T201719Z
UID:2349-1736616600-1736627400@canvas-artistry.com
SUMMARY:Dee Brown
DESCRIPTION:
URL:https://canvas-artistry.com/event/dee-brown-4/
CATEGORIES:Live Music
ATTACH;FMTTYPE=image/jpeg:https://canvas-artistry.com/wp-content/uploads/2024/02/thumbnail_image5.jpg
END:VEVENT
BEGIN:VEVENT
DTSTART;VALUE=DATE:20241231
DTEND;VALUE=DATE:20250101
DTSTAMP:20260423T171838
CREATED:20241126T212901Z
LAST-MODIFIED:20241205T212427Z
UID:9057-1735603200-1735689599@canvas-artistry.com
SUMMARY:NEW YEARS EVE PARTY
DESCRIPTION:
URL:https://canvas-artistry.com/event/new-years-eve-party/
CATEGORIES:DJ Music,Live Music
ATTACH;FMTTYPE=image/jpeg:https://canvas-artistry.com/wp-content/uploads/2024/12/DD7E0E46-AFB9-4D7E-8303-50C7AD7A052D.jpeg
END:VEVENT
BEGIN:VEVENT
DTSTART;TZID=America/Denver:20241213T173000
DTEND;TZID=America/Denver:20241213T203000
DTSTAMP:20260423T171838
CREATED:20230727T190958Z
LAST-MODIFIED:20241126T203143Z
UID:4698-1734111000-1734121800@canvas-artistry.com
SUMMARY:Raven Rutherford & Her Sweet Potato Pie Band
DESCRIPTION:
URL:https://canvas-artistry.com/event/ms-raven/
CATEGORIES:Live Music
ATTACH;FMTTYPE=image/jpeg:https://canvas-artistry.com/wp-content/uploads/2023/08/346876134_2100573033483726_1499402041264850837_n.jpg
END:VEVENT
BEGIN:VEVENT
DTSTART;TZID=America/Denver:20241116T173000
DTEND;TZID=America/Denver:20241116T203000
DTSTAMP:20260423T171838
CREATED:20240203T002403Z
LAST-MODIFIED:20241031T214008Z
UID:6905-1731778200-1731789000@canvas-artistry.com
SUMMARY:Lo Phat
DESCRIPTION:
URL:https://canvas-artistry.com/event/new-day-event-featuring-lo-phat/
CATEGORIES:Live Music
ATTACH;FMTTYPE=image/png:https://canvas-artistry.com/wp-content/uploads/2024/02/Color-2023.png
END:VEVENT
BEGIN:VEVENT
DTSTART;TZID=America/Denver:20241108T173000
DTEND;TZID=America/Denver:20241108T203000
DTSTAMP:20260423T171838
CREATED:20230811T195602Z
LAST-MODIFIED:20241031T213106Z
UID:4806-1731087000-1731097800@canvas-artistry.com
SUMMARY:Raven Rutherford & Her Sweet Potato Pie Band
DESCRIPTION:
URL:https://canvas-artistry.com/event/ms-raven-2/
CATEGORIES:Live Music
ATTACH;FMTTYPE=image/jpeg:https://canvas-artistry.com/wp-content/uploads/2023/08/346876134_2100573033483726_1499402041264850837_n.jpg
END:VEVENT
BEGIN:VEVENT
DTSTART;TZID=America/Denver:20240914T173000
DTEND;TZID=America/Denver:20240914T203000
DTSTAMP:20260423T171838
CREATED:20231026T185507Z
LAST-MODIFIED:20240822T183443Z
UID:5462-1726335000-1726345800@canvas-artistry.com
SUMMARY:Trinity Soul
DESCRIPTION:
URL:https://canvas-artistry.com/event/trinity-soul-5/
CATEGORIES:Live Music
ATTACH;FMTTYPE=image/jpeg:https://canvas-artistry.com/wp-content/uploads/2023/02/261F4AFD-5CB1-42E6-A048-3D5D15024237.jpeg
END:VEVENT
BEGIN:VEVENT
DTSTART;TZID=America/Denver:20240913T173000
DTEND;TZID=America/Denver:20240913T203000
DTSTAMP:20260423T171838
CREATED:20221110T220856Z
LAST-MODIFIED:20240822T182749Z
UID:1437-1726248600-1726259400@canvas-artistry.com
SUMMARY:The Band of Enchantments
DESCRIPTION:
URL:https://canvas-artistry.com/event/the-band-of-enchantments/
CATEGORIES:Live Music
ATTACH;FMTTYPE=image/jpeg:https://canvas-artistry.com/wp-content/uploads/2022/11/E4744F41-4F55-458A-B199-AF5A8BF26291.jpeg
END:VEVENT
BEGIN:VEVENT
DTSTART;TZID=America/Denver:20240907T173000
DTEND;TZID=America/Denver:20240907T203000
DTSTAMP:20260423T171838
CREATED:20240619T204912Z
LAST-MODIFIED:20240822T182346Z
UID:7102-1725730200-1725741000@canvas-artistry.com
SUMMARY:Statik Groove Band
DESCRIPTION:
URL:https://canvas-artistry.com/event/statik-groove-band-2/
CATEGORIES:Live Music
ATTACH;FMTTYPE=image/jpeg:https://canvas-artistry.com/wp-content/uploads/2024/04/image0.jpeg
END:VEVENT
BEGIN:VEVENT
DTSTART;TZID=America/Denver:20240823T173000
DTEND;TZID=America/Denver:20240823T203000
DTSTAMP:20260423T171838
CREATED:20240404T173943Z
LAST-MODIFIED:20240725T195334Z
UID:6928-1724434200-1724445000@canvas-artistry.com
SUMMARY:Statik Groove Band
DESCRIPTION:
URL:https://canvas-artistry.com/event/static-groove-band/
CATEGORIES:Live Music
ATTACH;FMTTYPE=image/jpeg:https://canvas-artistry.com/wp-content/uploads/2024/04/image0.jpeg
END:VEVENT
END:VCALENDAR