BEGIN:VCALENDAR
VERSION:2.0
PRODID:-//Canvas Artistry - ECPv6.15.20//NONSGML v1.0//EN
CALSCALE:GREGORIAN
METHOD:PUBLISH
X-ORIGINAL-URL:https://canvas-artistry.com
X-WR-CALDESC:Events for Canvas Artistry
REFRESH-INTERVAL;VALUE=DURATION:PT1H
X-Robots-Tag:noindex
X-PUBLISHED-TTL:PT1H
BEGIN:VTIMEZONE
TZID:America/Denver
BEGIN:DAYLIGHT
TZOFFSETFROM:-0700
TZOFFSETTO:-0600
TZNAME:MDT
DTSTART:20210314T090000
END:DAYLIGHT
BEGIN:STANDARD
TZOFFSETFROM:-0600
TZOFFSETTO:-0700
TZNAME:MST
DTSTART:20211107T080000
END:STANDARD
BEGIN:DAYLIGHT
TZOFFSETFROM:-0700
TZOFFSETTO:-0600
TZNAME:MDT
DTSTART:20220313T090000
END:DAYLIGHT
BEGIN:STANDARD
TZOFFSETFROM:-0600
TZOFFSETTO:-0700
TZNAME:MST
DTSTART:20221106T080000
END:STANDARD
BEGIN:DAYLIGHT
TZOFFSETFROM:-0700
TZOFFSETTO:-0600
TZNAME:MDT
DTSTART:20230312T090000
END:DAYLIGHT
BEGIN:STANDARD
TZOFFSETFROM:-0600
TZOFFSETTO:-0700
TZNAME:MST
DTSTART:20231105T080000
END:STANDARD
BEGIN:DAYLIGHT
TZOFFSETFROM:-0700
TZOFFSETTO:-0600
TZNAME:MDT
DTSTART:20240310T090000
END:DAYLIGHT
BEGIN:STANDARD
TZOFFSETFROM:-0600
TZOFFSETTO:-0700
TZNAME:MST
DTSTART:20241103T080000
END:STANDARD
END:VTIMEZONE
BEGIN:VEVENT
DTSTART;TZID=America/Denver:20230903T173000
DTEND;TZID=America/Denver:20230903T203000
DTSTAMP:20260424T113731
CREATED:20230811T194430Z
LAST-MODIFIED:20230811T194430Z
UID:4801-1693762200-1693773000@canvas-artistry.com
SUMMARY:Kari Simmons
DESCRIPTION:
URL:https://canvas-artistry.com/event/kari-simmons-2/
CATEGORIES:Live Music
ATTACH;FMTTYPE=image/jpeg:https://canvas-artistry.com/wp-content/uploads/2023/07/FB_IMG_1690483815843.jpg
END:VEVENT
BEGIN:VEVENT
DTSTART;TZID=America/Denver:20230811T173000
DTEND;TZID=America/Denver:20230811T203000
DTSTAMP:20260424T113731
CREATED:20230323T192725Z
LAST-MODIFIED:20230727T184244Z
UID:3715-1691775000-1691785800@canvas-artistry.com
SUMMARY:Ron Crowder
DESCRIPTION:
URL:https://canvas-artistry.com/event/ron-crowder/
CATEGORIES:Live Music
ATTACH;FMTTYPE=image/jpeg:https://canvas-artistry.com/wp-content/uploads/2023/04/thumbnail_image0.jpg
END:VEVENT
BEGIN:VEVENT
DTSTART;TZID=America/Denver:20230729T173000
DTEND;TZID=America/Denver:20230729T203000
DTSTAMP:20260424T113731
CREATED:20221110T221322Z
LAST-MODIFIED:20230622T192544Z
UID:1447-1690651800-1690662600@canvas-artistry.com
SUMMARY:Dee Brown
DESCRIPTION:
URL:https://canvas-artistry.com/event/dee-brown-2/
CATEGORIES:Live Music
ATTACH;FMTTYPE=image/jpeg:https://canvas-artistry.com/wp-content/uploads/2022/06/Screenshot_20220623-120244_Instagram.jpg
END:VEVENT
BEGIN:VEVENT
DTSTART;TZID=America/Denver:20230728T173000
DTEND;TZID=America/Denver:20230728T203000
DTSTAMP:20260424T113731
CREATED:20230622T192307Z
LAST-MODIFIED:20230622T192307Z
UID:4632-1690565400-1690576200@canvas-artistry.com
SUMMARY:Neo Chops
DESCRIPTION:
URL:https://canvas-artistry.com/event/neo-chops-2/
CATEGORIES:Live Music
END:VEVENT
BEGIN:VEVENT
DTSTART;TZID=America/Denver:20230701T173000
DTEND;TZID=America/Denver:20230701T203000
DTSTAMP:20260424T113731
CREATED:20230622T192216Z
LAST-MODIFIED:20230622T192216Z
UID:4630-1688232600-1688243400@canvas-artistry.com
SUMMARY:Neo Chops
DESCRIPTION:
URL:https://canvas-artistry.com/event/neo-chops/
CATEGORIES:Live Music
END:VEVENT
BEGIN:VEVENT
DTSTART;TZID=America/Denver:20230630T173000
DTEND;TZID=America/Denver:20230630T203000
DTSTAMP:20260424T113731
CREATED:20230126T183617Z
LAST-MODIFIED:20230613T162731Z
UID:2759-1688146200-1688157000@canvas-artistry.com
SUMMARY:Guest Band TBD
DESCRIPTION:
URL:https://canvas-artistry.com/event/chillhouse-with-hillary-smith-5/
CATEGORIES:Live Music
END:VEVENT
BEGIN:VEVENT
DTSTART;TZID=America/Denver:20230618T173000
DTEND;TZID=America/Denver:20230618T203000
DTSTAMP:20260424T113731
CREATED:20221110T221422Z
LAST-MODIFIED:20230518T192155Z
UID:1449-1687109400-1687120200@canvas-artistry.com
SUMMARY:Just Velvet
DESCRIPTION:
URL:https://canvas-artistry.com/event/just-velvet-music/
CATEGORIES:Live Music
ATTACH;FMTTYPE=image/jpeg:https://canvas-artistry.com/wp-content/uploads/2022/11/7561E1CE-D26A-434C-B6F1-26DC1FD757A3.jpeg
END:VEVENT
BEGIN:VEVENT
DTSTART;TZID=America/Denver:20230610T173000
DTEND;TZID=America/Denver:20230610T203000
DTSTAMP:20260424T113731
CREATED:20230126T183702Z
LAST-MODIFIED:20230518T185958Z
UID:2761-1686418200-1686429000@canvas-artistry.com
SUMMARY:Tramps
DESCRIPTION:
URL:https://canvas-artistry.com/event/tramps-2/
CATEGORIES:Live Music
ATTACH;FMTTYPE=image/jpeg:https://canvas-artistry.com/wp-content/uploads/2023/02/image.jpeg
END:VEVENT
BEGIN:VEVENT
DTSTART;TZID=America/Denver:20230609T173000
DTEND;TZID=America/Denver:20230609T203000
DTSTAMP:20260424T113731
CREATED:20230323T193059Z
LAST-MODIFIED:20230518T185804Z
UID:3718-1686331800-1686342600@canvas-artistry.com
SUMMARY:Just Velvet
DESCRIPTION:
URL:https://canvas-artistry.com/event/just-velvet-3/
CATEGORIES:Live Music
ATTACH;FMTTYPE=image/jpeg:https://canvas-artistry.com/wp-content/uploads/2022/11/7561E1CE-D26A-434C-B6F1-26DC1FD757A3.jpeg
END:VEVENT
BEGIN:VEVENT
DTSTART;TZID=America/Denver:20230527T173000
DTEND;TZID=America/Denver:20230527T203000
DTSTAMP:20260424T113731
CREATED:20230223T210222Z
LAST-MODIFIED:20230420T185241Z
UID:3140-1685208600-1685219400@canvas-artistry.com
SUMMARY:Just Velvet
DESCRIPTION:
URL:https://canvas-artistry.com/event/just-velvet/
CATEGORIES:Live Music
ATTACH;FMTTYPE=image/jpeg:https://canvas-artistry.com/wp-content/uploads/2022/11/7561E1CE-D26A-434C-B6F1-26DC1FD757A3.jpeg
END:VEVENT
BEGIN:VEVENT
DTSTART;TZID=America/Denver:20230505T173000
DTEND;TZID=America/Denver:20230505T203000
DTSTAMP:20260424T113731
CREATED:20230420T182730Z
LAST-MODIFIED:20230425T190503Z
UID:3943-1683307800-1683318600@canvas-artistry.com
SUMMARY:Super Verza
DESCRIPTION:
URL:https://canvas-artistry.com/event/super-vez/
CATEGORIES:Live Music
END:VEVENT
BEGIN:VEVENT
DTSTART;TZID=America/Denver:20230304T173000
DTEND;TZID=America/Denver:20230304T203000
DTSTAMP:20260424T113731
CREATED:20230223T203910Z
LAST-MODIFIED:20230223T203910Z
UID:3124-1677951000-1677961800@canvas-artistry.com
SUMMARY:The Tramps
DESCRIPTION:
URL:https://canvas-artistry.com/event/the-tramps/
CATEGORIES:Live Music
ATTACH;FMTTYPE=image/jpeg:https://canvas-artistry.com/wp-content/uploads/2023/02/image.jpeg
END:VEVENT
BEGIN:VEVENT
DTSTART;TZID=America/Denver:20230303T173000
DTEND;TZID=America/Denver:20230303T203000
DTSTAMP:20260424T113731
CREATED:20230223T203528Z
LAST-MODIFIED:20230223T203528Z
UID:3122-1677864600-1677875400@canvas-artistry.com
SUMMARY:Chill House with Wendy Beach
DESCRIPTION:
URL:https://canvas-artistry.com/event/chill-house-with-wendy-beach/
CATEGORIES:Live Music
END:VEVENT
BEGIN:VEVENT
DTSTART;TZID=America/Denver:20230128T173000
DTEND;TZID=America/Denver:20230128T203000
DTSTAMP:20260424T113731
CREATED:20221229T210116Z
LAST-MODIFIED:20221229T210116Z
UID:2301-1674927000-1674937800@canvas-artistry.com
SUMMARY:Hillary Smith
DESCRIPTION:
URL:https://canvas-artistry.com/event/hillary-smith-2023-01-28/
CATEGORIES:Live Music
ATTACH;FMTTYPE=image/jpeg:https://canvas-artistry.com/wp-content/uploads/2022/04/hillarysmith.jpg
END:VEVENT
BEGIN:VEVENT
DTSTART;TZID=America/Denver:20230121T173000
DTEND;TZID=America/Denver:20230121T203000
DTSTAMP:20260424T113731
CREATED:20221229T210116Z
LAST-MODIFIED:20221229T210116Z
UID:2299-1674322200-1674333000@canvas-artistry.com
SUMMARY:Hillary Smith
DESCRIPTION:
URL:https://canvas-artistry.com/event/hillary-smith/
CATEGORIES:Live Music
ATTACH;FMTTYPE=image/jpeg:https://canvas-artistry.com/wp-content/uploads/2022/04/hillarysmith.jpg
END:VEVENT
BEGIN:VEVENT
DTSTART;TZID=America/Denver:20220828T170000
DTEND;TZID=America/Denver:20220828T200000
DTSTAMP:20260424T113731
CREATED:20220818T203952Z
LAST-MODIFIED:20220818T203952Z
UID:1276-1661706000-1661716800@canvas-artistry.com
SUMMARY:DCN Project
DESCRIPTION:
URL:https://canvas-artistry.com/event/dcn-project/
CATEGORIES:Live Music
ATTACH;FMTTYPE=image/jpeg:https://canvas-artistry.com/wp-content/uploads/2022/08/Screenshot_20220818-143625_Facebook.jpg
END:VEVENT
BEGIN:VEVENT
DTSTART;TZID=America/Denver:20220821T170000
DTEND;TZID=America/Denver:20220821T200000
DTSTAMP:20260424T113731
CREATED:20220818T195626Z
LAST-MODIFIED:20220818T195626Z
UID:1273-1661101200-1661112000@canvas-artistry.com
SUMMARY:Toni Morgan & Andrew Cooper
DESCRIPTION:
URL:https://canvas-artistry.com/event/toni-morgan-andrew-cooper/
CATEGORIES:Live Music
ATTACH;FMTTYPE=image/jpeg:https://canvas-artistry.com/wp-content/uploads/2022/08/Screenshot_20220818-123806_Phone.jpg
END:VEVENT
BEGIN:VEVENT
DTSTART;TZID=America/Denver:20220819T180000
DTEND;TZID=America/Denver:20220819T210000
DTSTAMP:20260424T113731
CREATED:20220623T180612Z
LAST-MODIFIED:20220818T173143Z
UID:949-1660932000-1660942800@canvas-artistry.com
SUMMARY:Park 21
DESCRIPTION:
URL:https://canvas-artistry.com/event/park/
CATEGORIES:Live Music
ATTACH;FMTTYPE=image/jpeg:https://canvas-artistry.com/wp-content/uploads/2022/06/Screenshot_20220623-122732_Facebook.jpg
END:VEVENT
BEGIN:VEVENT
DTSTART;TZID=America/Denver:20220724T170000
DTEND;TZID=America/Denver:20220724T200000
DTSTAMP:20260424T113731
CREATED:20220623T180456Z
LAST-MODIFIED:20220623T180456Z
UID:947-1658682000-1658692800@canvas-artistry.com
SUMMARY:El Gonzao
DESCRIPTION:
URL:https://canvas-artistry.com/event/el-gonzao/
CATEGORIES:Live Music
ATTACH;FMTTYPE=image/jpeg:https://canvas-artistry.com/wp-content/uploads/2022/04/el-gozao.jpg
END:VEVENT
BEGIN:VEVENT
DTSTART;TZID=America/Denver:20220722T180000
DTEND;TZID=America/Denver:20220722T210000
DTSTAMP:20260424T113731
CREATED:20220412T025131Z
LAST-MODIFIED:20220623T175111Z
UID:733-1658512800-1658523600@canvas-artistry.com
SUMMARY:Chillhouse with Hillary Smith
DESCRIPTION:
URL:https://canvas-artistry.com/event/chillhouse-with-hillary-smith/
LOCATION:Canvas Artistry\, 1 Central Ave NW\, Albuquerque\, 87102\, United States
CATEGORIES:Live Music
ATTACH;FMTTYPE=image/jpeg:https://canvas-artistry.com/wp-content/uploads/2022/04/hillarysmith.jpg
END:VEVENT
BEGIN:VEVENT
DTSTART;TZID=America/Denver:20220703T170000
DTEND;TZID=America/Denver:20220703T200000
DTSTAMP:20260424T113731
CREATED:20220623T181849Z
LAST-MODIFIED:20220623T182942Z
UID:956-1656867600-1656878400@canvas-artistry.com
SUMMARY:Dee Brown
DESCRIPTION:
URL:https://canvas-artistry.com/event/dee-brown/
CATEGORIES:Live Music
ATTACH;FMTTYPE=image/jpeg:https://canvas-artistry.com/wp-content/uploads/2022/06/Screenshot_20220623-120244_Instagram.jpg
END:VEVENT
BEGIN:VEVENT
DTSTART;TZID=America/Denver:20220701T180000
DTEND;TZID=America/Denver:20220701T210000
DTSTAMP:20260424T113731
CREATED:20220623T181048Z
LAST-MODIFIED:20220623T192455Z
UID:952-1656698400-1656709200@canvas-artistry.com
SUMMARY:Sade Munirah
DESCRIPTION:
URL:https://canvas-artistry.com/event/sade-munich/
CATEGORIES:Live Music
ATTACH;FMTTYPE=image/jpeg:https://canvas-artistry.com/wp-content/uploads/2022/06/Screenshot_20220623-120108_Instagram.jpg
END:VEVENT
END:VCALENDAR