BEGIN:VCALENDAR
VERSION:2.0
PRODID:-//Canvas Artistry - ECPv6.15.20//NONSGML v1.0//EN
CALSCALE:GREGORIAN
METHOD:PUBLISH
X-ORIGINAL-URL:https://canvas-artistry.com
X-WR-CALDESC:Events for Canvas Artistry
REFRESH-INTERVAL;VALUE=DURATION:PT1H
X-Robots-Tag:noindex
X-PUBLISHED-TTL:PT1H
BEGIN:VTIMEZONE
TZID:America/Denver
BEGIN:DAYLIGHT
TZOFFSETFROM:-0700
TZOFFSETTO:-0600
TZNAME:MDT
DTSTART:20240310T090000
END:DAYLIGHT
BEGIN:STANDARD
TZOFFSETFROM:-0600
TZOFFSETTO:-0700
TZNAME:MST
DTSTART:20241103T080000
END:STANDARD
BEGIN:DAYLIGHT
TZOFFSETFROM:-0700
TZOFFSETTO:-0600
TZNAME:MDT
DTSTART:20250309T090000
END:DAYLIGHT
BEGIN:STANDARD
TZOFFSETFROM:-0600
TZOFFSETTO:-0700
TZNAME:MST
DTSTART:20251102T080000
END:STANDARD
BEGIN:DAYLIGHT
TZOFFSETFROM:-0700
TZOFFSETTO:-0600
TZNAME:MDT
DTSTART:20260308T090000
END:DAYLIGHT
BEGIN:STANDARD
TZOFFSETFROM:-0600
TZOFFSETTO:-0700
TZNAME:MST
DTSTART:20261101T080000
END:STANDARD
END:VTIMEZONE
BEGIN:VEVENT
DTSTART;TZID=America/Denver:20251220T173000
DTEND;TZID=America/Denver:20251220T203000
DTSTAMP:20260423T121703
CREATED:20241002T191000Z
LAST-MODIFIED:20251204T221934Z
UID:9021-1766251800-1766262600@canvas-artistry.com
SUMMARY:Blusol Band
DESCRIPTION:
URL:https://canvas-artistry.com/event/blusol-band-2/
CATEGORIES:Live Music
ATTACH;FMTTYPE=image/jpeg:https://canvas-artistry.com/wp-content/uploads/2024/07/blu-sol-at-Canvas.jpg
END:VEVENT
BEGIN:VEVENT
DTSTART;TZID=America/Denver:20251219T173000
DTEND;TZID=America/Denver:20251219T203000
DTSTAMP:20260423T121703
CREATED:20230223T210113Z
LAST-MODIFIED:20251204T221648Z
UID:3138-1766165400-1766176200@canvas-artistry.com
SUMMARY:Park 21
DESCRIPTION:
URL:https://canvas-artistry.com/event/park-21-3/
CATEGORIES:Live Music
ATTACH;FMTTYPE=image/jpeg:https://canvas-artistry.com/wp-content/uploads/2024/02/thumbnail_image0.jpg
END:VEVENT
BEGIN:VEVENT
DTSTART;TZID=America/Denver:20251218T190000
DTEND;TZID=America/Denver:20251219T000000
DTSTAMP:20260423T121703
CREATED:20220818T205622Z
LAST-MODIFIED:20251204T221527Z
UID:4776-1766084400-1766102400@canvas-artistry.com
SUMMARY:DJ LiL Salsa
DESCRIPTION:
URL:https://canvas-artistry.com/event/lil-salsa-friends-2023-08-29/
CATEGORIES:DJ Music
ATTACH;FMTTYPE=image/jpeg:https://canvas-artistry.com/wp-content/uploads/2022/08/Screenshot_20220818-144618_Instagram.jpg
END:VEVENT
BEGIN:VEVENT
DTSTART;TZID=America/Denver:20251214T120000
DTEND;TZID=America/Denver:20251214T163000
DTSTAMP:20260423T121703
CREATED:20240104T191244Z
LAST-MODIFIED:20251211T210319Z
UID:6740-1765713600-1765729800@canvas-artistry.com
SUMMARY:DJ CELLO
DESCRIPTION:
URL:https://canvas-artistry.com/event/dj-cello-2024-01-14-2025-01-26/
ATTACH;FMTTYPE=image/jpeg:https://canvas-artistry.com/wp-content/uploads/2022/06/0-1.jpg
END:VEVENT
BEGIN:VEVENT
DTSTART;TZID=America/Denver:20251213T210000
DTEND;TZID=America/Denver:20251214T013000
DTSTAMP:20260423T121703
CREATED:20221229T210359Z
LAST-MODIFIED:20251204T221411Z
UID:2304-1765659600-1765675800@canvas-artistry.com
SUMMARY:DJ Mel Man
DESCRIPTION:
URL:https://canvas-artistry.com/event/mel-man/
CATEGORIES:DJ Music
ATTACH;FMTTYPE=image/jpeg:https://canvas-artistry.com/wp-content/uploads/2024/02/thumbnail_image6.jpg
END:VEVENT
BEGIN:VEVENT
DTSTART;TZID=America/Denver:20251213T173000
DTEND;TZID=America/Denver:20251213T203000
DTSTAMP:20260423T121703
CREATED:20231026T180317Z
LAST-MODIFIED:20251204T220959Z
UID:5188-1765647000-1765657800@canvas-artistry.com
SUMMARY:Picoso
DESCRIPTION:
URL:https://canvas-artistry.com/event/picoso-4/
CATEGORIES:Live Music
ATTACH;FMTTYPE=image/jpeg:https://canvas-artistry.com/wp-content/uploads/2023/03/Picoso.jpg
END:VEVENT
BEGIN:VEVENT
DTSTART;TZID=America/Denver:20251212T210000
DTEND;TZID=America/Denver:20251213T013000
DTSTAMP:20260423T121703
CREATED:20250107T222408Z
LAST-MODIFIED:20251211T211514Z
UID:9068-1765573200-1765589400@canvas-artistry.com
SUMMARY:DJ KID OFFICIAL
DESCRIPTION:
URL:https://canvas-artistry.com/event/dj-q-5/
CATEGORIES:DJ Music
ATTACH;FMTTYPE=image/jpeg:https://canvas-artistry.com/wp-content/uploads/2024/07/image3.jpeg
END:VEVENT
BEGIN:VEVENT
DTSTART;TZID=America/Denver:20251211T190000
DTEND;TZID=America/Denver:20251211T233000
DTSTAMP:20260423T121703
CREATED:20250114T192412Z
LAST-MODIFIED:20251204T220459Z
UID:9073-1765479600-1765495800@canvas-artistry.com
SUMMARY:Burque Revolt
DESCRIPTION:
URL:https://canvas-artistry.com/event/burque-revolt/
CATEGORIES:DJ Music,Live Music
ATTACH;FMTTYPE=image/jpeg:https://canvas-artistry.com/wp-content/uploads/2024/02/thumbnail_image0-1.jpg
END:VEVENT
BEGIN:VEVENT
DTSTART;TZID=America/Denver:20251205T210000
DTEND;TZID=America/Denver:20251206T013000
DTSTAMP:20260423T121703
CREATED:20241126T211817Z
LAST-MODIFIED:20251204T220202Z
UID:9054-1764968400-1764984600@canvas-artistry.com
SUMMARY:DJ Mischievous
DESCRIPTION:
URL:https://canvas-artistry.com/event/dj-mischievous-2/
CATEGORIES:DJ Music
ATTACH;FMTTYPE=image/jpeg:https://canvas-artistry.com/wp-content/uploads/2024/07/image4.jpeg
END:VEVENT
BEGIN:VEVENT
DTSTART;TZID=America/Denver:20251205T173000
DTEND;TZID=America/Denver:20251205T203000
DTSTAMP:20260423T121703
CREATED:20230126T212614Z
LAST-MODIFIED:20251204T220040Z
UID:2769-1764955800-1764966600@canvas-artistry.com
SUMMARY:Chillhouse with Hillary Smith
DESCRIPTION:
URL:https://canvas-artistry.com/event/rodney-bowe-8/
CATEGORIES:Live Music
ATTACH;FMTTYPE=image/jpeg:https://canvas-artistry.com/wp-content/uploads/2024/02/thumbnail_image9.jpg
END:VEVENT
BEGIN:VEVENT
DTSTART;TZID=America/Denver:20251204T190000
DTEND;TZID=America/Denver:20251205T000000
DTSTAMP:20260423T121703
CREATED:20220818T205622Z
LAST-MODIFIED:20251204T215940Z
UID:4775-1764874800-1764892800@canvas-artistry.com
SUMMARY:DJ LiL Salsa
DESCRIPTION:
URL:https://canvas-artistry.com/event/lil-salsa-friends-2023-08-22/
CATEGORIES:DJ Music
ATTACH;FMTTYPE=image/jpeg:https://canvas-artistry.com/wp-content/uploads/2022/08/Screenshot_20220818-144618_Instagram.jpg
END:VEVENT
BEGIN:VEVENT
DTSTART;TZID=America/Denver:20251130T120000
DTEND;TZID=America/Denver:20251130T163000
DTSTAMP:20260423T121703
CREATED:20240104T191244Z
LAST-MODIFIED:20251029T211826Z
UID:6742-1764504000-1764520200@canvas-artistry.com
SUMMARY:DJ CELLO
DESCRIPTION:
URL:https://canvas-artistry.com/event/dj-cello-2024-01-14-2025-02-09/
CATEGORIES:DJ Music
ATTACH;FMTTYPE=image/jpeg:https://canvas-artistry.com/wp-content/uploads/2022/06/0-1.jpg
END:VEVENT
BEGIN:VEVENT
DTSTART;TZID=America/Denver:20251129T210000
DTEND;TZID=America/Denver:20251130T013000
DTSTAMP:20260423T121703
CREATED:20251029T211202Z
LAST-MODIFIED:20251029T211202Z
UID:9538-1764450000-1764466200@canvas-artistry.com
SUMMARY:DJ MAJESTY
DESCRIPTION:
URL:https://canvas-artistry.com/event/dj-majesty-2/
CATEGORIES:DJ Music
ATTACH;FMTTYPE=image/png:https://canvas-artistry.com/wp-content/uploads/2025/10/4A3425E5-6DDD-4B66-8A4B-1C9038F7CDC4.png
END:VEVENT
BEGIN:VEVENT
DTSTART;TZID=America/Denver:20251129T173000
DTEND;TZID=America/Denver:20251129T203000
DTSTAMP:20260423T121703
CREATED:20251029T212344Z
LAST-MODIFIED:20251029T212344Z
UID:9540-1764437400-1764448200@canvas-artistry.com
SUMMARY:Picoso
DESCRIPTION:
URL:https://canvas-artistry.com/event/picoso/
CATEGORIES:Live Music
ATTACH;FMTTYPE=image/jpeg:https://canvas-artistry.com/wp-content/uploads/2024/02/thumbnail_image3.jpg
END:VEVENT
BEGIN:VEVENT
DTSTART;TZID=America/Denver:20251128T173000
DTEND;TZID=America/Denver:20251128T203000
DTSTAMP:20260423T121703
CREATED:20240711T185522Z
LAST-MODIFIED:20251029T213912Z
UID:7113-1764351000-1764361800@canvas-artistry.com
SUMMARY:The Groove Line
DESCRIPTION:
URL:https://canvas-artistry.com/event/the-groove-line/
CATEGORIES:Live Music
ATTACH;FMTTYPE=image/jpeg:https://canvas-artistry.com/wp-content/uploads/2024/07/image1.jpeg
END:VEVENT
BEGIN:VEVENT
DTSTART;VALUE=DATE:20251127
DTEND;VALUE=DATE:20251128
DTSTAMP:20260423T121703
CREATED:20231026T182114Z
LAST-MODIFIED:20251029T213800Z
UID:6513-1764201600-1764287999@canvas-artistry.com
SUMMARY:Closed For the Holiday
DESCRIPTION:
URL:https://canvas-artistry.com/event/speed-one-2024-11-28/
ATTACH;FMTTYPE=image/jpeg:https://canvas-artistry.com/wp-content/uploads/2023/10/stores-closed-thanksgiving-2020-jpg.jpg
END:VEVENT
BEGIN:VEVENT
DTSTART;TZID=America/Denver:20251126T210000
DTEND;TZID=America/Denver:20251127T013000
DTSTAMP:20260423T121703
CREATED:20220623T191356Z
LAST-MODIFIED:20251029T213612Z
UID:1795-1764190800-1764207000@canvas-artistry.com
SUMMARY:Dj Mel Man & Cello
DESCRIPTION:
URL:https://canvas-artistry.com/event/dj-wae-fonkey-2-2023-03-24/
CATEGORIES:DJ Music
ATTACH;FMTTYPE=image/jpeg:https://canvas-artistry.com/wp-content/uploads/2024/02/thumbnail_image6.jpg
END:VEVENT
BEGIN:VEVENT
DTSTART;TZID=America/Denver:20251123T120000
DTEND;TZID=America/Denver:20251123T163000
DTSTAMP:20260423T121703
CREATED:20240104T191244Z
LAST-MODIFIED:20251029T211629Z
UID:6741-1763899200-1763915400@canvas-artistry.com
SUMMARY:DJ CELLO
DESCRIPTION:
URL:https://canvas-artistry.com/event/dj-cello-2024-01-14-2025-02-02/
CATEGORIES:DJ Music
ATTACH;FMTTYPE=image/jpeg:https://canvas-artistry.com/wp-content/uploads/2022/06/0-1.jpg
END:VEVENT
BEGIN:VEVENT
DTSTART;TZID=America/Denver:20251121T210000
DTEND;TZID=America/Denver:20251122T013000
DTSTAMP:20260423T121703
CREATED:20250114T223015Z
LAST-MODIFIED:20251029T213101Z
UID:9076-1763758800-1763775000@canvas-artistry.com
SUMMARY:DJ Q
DESCRIPTION:
URL:https://canvas-artistry.com/event/dj-q-6/
CATEGORIES:DJ Music
ATTACH;FMTTYPE=image/jpeg:https://canvas-artistry.com/wp-content/uploads/2024/07/image5.jpeg
END:VEVENT
BEGIN:VEVENT
DTSTART;TZID=America/Denver:20251121T173000
DTEND;TZID=America/Denver:20251121T203000
DTSTAMP:20260423T121703
CREATED:20221229T222333Z
LAST-MODIFIED:20251029T213023Z
UID:2308-1763746200-1763757000@canvas-artistry.com
SUMMARY:Rodney Bowe
DESCRIPTION:
URL:https://canvas-artistry.com/event/rodney-bowe-6/
CATEGORIES:Live Music
ATTACH;FMTTYPE=image/jpeg:https://canvas-artistry.com/wp-content/uploads/2023/02/31FDEF14-23BA-4341-80B4-58F735671FA0.jpeg
END:VEVENT
BEGIN:VEVENT
DTSTART;TZID=America/Denver:20251115T210000
DTEND;TZID=America/Denver:20251116T013000
DTSTAMP:20260423T121703
CREATED:20231026T182114Z
LAST-MODIFIED:20251029T212805Z
UID:6555-1763240400-1763256600@canvas-artistry.com
SUMMARY:DJ SOIREE
DESCRIPTION:
URL:https://canvas-artistry.com/event/speed-one-2025-09-18/
CATEGORIES:DJ Music
ATTACH;FMTTYPE=image/jpeg:https://canvas-artistry.com/wp-content/uploads/2025/09/image0.jpeg
END:VEVENT
BEGIN:VEVENT
DTSTART;TZID=America/Denver:20251115T173000
DTEND;TZID=America/Denver:20251115T203000
DTSTAMP:20260423T121703
CREATED:20220412T025131Z
LAST-MODIFIED:20251029T210832Z
UID:943-1763227800-1763238600@canvas-artistry.com
SUMMARY:Chillhouse with Hillary Smith
DESCRIPTION:
URL:https://canvas-artistry.com/event/chillhouse-with-hillary-smith-2022-07-29/
LOCATION:Canvas Artistry\, 1 Central Ave NW\, Albuquerque\, 87102\, United States
CATEGORIES:Live Music
ATTACH;FMTTYPE=image/jpeg:https://canvas-artistry.com/wp-content/uploads/2024/02/thumbnail_image9.jpg
END:VEVENT
BEGIN:VEVENT
DTSTART;TZID=America/Denver:20251114T210000
DTEND;TZID=America/Denver:20251115T010000
DTSTAMP:20260423T121703
CREATED:20240404T174730Z
LAST-MODIFIED:20251029T212619Z
UID:6931-1763154000-1763168400@canvas-artistry.com
SUMMARY:DJ Mischievous
DESCRIPTION:
URL:https://canvas-artistry.com/event/dj-q-dj-mischievous/
CATEGORIES:DJ Music
ATTACH;FMTTYPE=image/jpeg:https://canvas-artistry.com/wp-content/uploads/2024/07/image4.jpeg
END:VEVENT
BEGIN:VEVENT
DTSTART;TZID=America/Denver:20251114T173000
DTEND;TZID=America/Denver:20251114T203000
DTSTAMP:20260423T121703
CREATED:20231026T184403Z
LAST-MODIFIED:20251029T212133Z
UID:5454-1763141400-1763152200@canvas-artistry.com
SUMMARY:Picoso
DESCRIPTION:
URL:https://canvas-artistry.com/event/picoso-5/
CATEGORIES:Live Music
ATTACH;FMTTYPE=image/jpeg:https://canvas-artistry.com/wp-content/uploads/2023/03/Picoso.jpg
END:VEVENT
BEGIN:VEVENT
DTSTART;TZID=America/Denver:20251113T190000
DTEND;TZID=America/Denver:20251114T000000
DTSTAMP:20260423T121703
CREATED:20230518T185035Z
LAST-MODIFIED:20251029T212008Z
UID:4410-1763060400-1763078400@canvas-artistry.com
SUMMARY:Burque Revolt
DESCRIPTION:
URL:https://canvas-artistry.com/event/dj-cello-7-2023-12-13/
CATEGORIES:DJ Music,Live Music
ATTACH;FMTTYPE=image/jpeg:https://canvas-artistry.com/wp-content/uploads/2024/02/thumbnail_image0-1.jpg
END:VEVENT
BEGIN:VEVENT
DTSTART;TZID=America/Denver:20251108T210000
DTEND;TZID=America/Denver:20251109T013000
DTSTAMP:20260423T121703
CREATED:20250619T190303Z
LAST-MODIFIED:20251029T210954Z
UID:9145-1762635600-1762651800@canvas-artistry.com
SUMMARY:DJ MAJESTY
DESCRIPTION:
URL:https://canvas-artistry.com/event/dj-majesty/
CATEGORIES:DJ Music
ATTACH;FMTTYPE=image/png:https://canvas-artistry.com/wp-content/uploads/2025/10/4A3425E5-6DDD-4B66-8A4B-1C9038F7CDC4.png
END:VEVENT
BEGIN:VEVENT
DTSTART;TZID=America/Denver:20251107T173000
DTEND;TZID=America/Denver:20251107T203000
DTSTAMP:20260423T121703
CREATED:20230126T211309Z
LAST-MODIFIED:20251029T210254Z
UID:2763-1762536600-1762547400@canvas-artistry.com
SUMMARY:Rodney Bowe
DESCRIPTION:
URL:https://canvas-artistry.com/event/rodney-bowe-7/
CATEGORIES:Live Music
ATTACH;FMTTYPE=image/jpeg:https://canvas-artistry.com/wp-content/uploads/2024/02/thumbnail_image0-1-1.jpg
END:VEVENT
BEGIN:VEVENT
DTSTART;VALUE=DATE:20251102
DTEND;VALUE=DATE:20251103
DTSTAMP:20260423T121703
CREATED:20251029T172124Z
LAST-MODIFIED:20251029T172124Z
UID:9533-1762041600-1762127999@canvas-artistry.com
SUMMARY:ALL SOULS DAY CELEBRATION
DESCRIPTION:
URL:https://canvas-artistry.com/event/all-souls-day-celebration/
CATEGORIES:DJ Music,Live Music
ATTACH;FMTTYPE=image/heic:https://canvas-artistry.com/wp-content/uploads/2025/10/All-Souls-Day-1_Back.heic
END:VEVENT
BEGIN:VEVENT
DTSTART;TZID=America/Denver:20251031T210000
DTEND;TZID=America/Denver:20251101T013000
DTSTAMP:20260423T121703
CREATED:20250926T201538Z
LAST-MODIFIED:20250926T201538Z
UID:9525-1761944400-1761960600@canvas-artistry.com
SUMMARY:SUNNY BOYS
DESCRIPTION:
URL:https://canvas-artistry.com/event/sunny-boys/
CATEGORIES:DJ Music
END:VEVENT
BEGIN:VEVENT
DTSTART;TZID=America/Denver:20251031T173000
DTEND;TZID=America/Denver:20251031T203000
DTSTAMP:20260423T121703
CREATED:20250926T201428Z
LAST-MODIFIED:20250926T201428Z
UID:9523-1761931800-1761942600@canvas-artistry.com
SUMMARY:GROOVE TYME
DESCRIPTION:
URL:https://canvas-artistry.com/event/groove-tyme/
CATEGORIES:Live Music
END:VEVENT
END:VCALENDAR