BEGIN:VCALENDAR
VERSION:2.0
PRODID:-//Canvas Artistry - ECPv6.15.20//NONSGML v1.0//EN
CALSCALE:GREGORIAN
METHOD:PUBLISH
X-ORIGINAL-URL:https://canvas-artistry.com
X-WR-CALDESC:Events for Canvas Artistry
REFRESH-INTERVAL;VALUE=DURATION:PT1H
X-Robots-Tag:noindex
X-PUBLISHED-TTL:PT1H
BEGIN:VTIMEZONE
TZID:America/Denver
BEGIN:DAYLIGHT
TZOFFSETFROM:-0700
TZOFFSETTO:-0600
TZNAME:MDT
DTSTART:20240310T090000
END:DAYLIGHT
BEGIN:STANDARD
TZOFFSETFROM:-0600
TZOFFSETTO:-0700
TZNAME:MST
DTSTART:20241103T080000
END:STANDARD
BEGIN:DAYLIGHT
TZOFFSETFROM:-0700
TZOFFSETTO:-0600
TZNAME:MDT
DTSTART:20250309T090000
END:DAYLIGHT
BEGIN:STANDARD
TZOFFSETFROM:-0600
TZOFFSETTO:-0700
TZNAME:MST
DTSTART:20251102T080000
END:STANDARD
BEGIN:DAYLIGHT
TZOFFSETFROM:-0700
TZOFFSETTO:-0600
TZNAME:MDT
DTSTART:20260308T090000
END:DAYLIGHT
BEGIN:STANDARD
TZOFFSETFROM:-0600
TZOFFSETTO:-0700
TZNAME:MST
DTSTART:20261101T080000
END:STANDARD
END:VTIMEZONE
BEGIN:VEVENT
DTSTART;TZID=America/Denver:20251031T210000
DTEND;TZID=America/Denver:20251101T013000
DTSTAMP:20260423T153307
CREATED:20250926T201538Z
LAST-MODIFIED:20250926T201538Z
UID:9525-1761944400-1761960600@canvas-artistry.com
SUMMARY:SUNNY BOYS
DESCRIPTION:
URL:https://canvas-artistry.com/event/sunny-boys/
CATEGORIES:DJ Music
END:VEVENT
BEGIN:VEVENT
DTSTART;TZID=America/Denver:20251031T173000
DTEND;TZID=America/Denver:20251031T203000
DTSTAMP:20260423T153307
CREATED:20250926T201428Z
LAST-MODIFIED:20250926T201428Z
UID:9523-1761931800-1761942600@canvas-artistry.com
SUMMARY:GROOVE TYME
DESCRIPTION:
URL:https://canvas-artistry.com/event/groove-tyme/
CATEGORIES:Live Music
END:VEVENT
BEGIN:VEVENT
DTSTART;TZID=America/Denver:20251030T190000
DTEND;TZID=America/Denver:20251031T000000
DTSTAMP:20260423T153307
CREATED:20220818T205622Z
LAST-MODIFIED:20251003T191156Z
UID:1352-1761850800-1761868800@canvas-artistry.com
SUMMARY:DJ LiL Salsa
DESCRIPTION:
URL:https://canvas-artistry.com/event/lil-salsa-friends/
CATEGORIES:DJ Music
ATTACH;FMTTYPE=image/jpeg:https://canvas-artistry.com/wp-content/uploads/2022/08/Screenshot_20220818-144618_Instagram.jpg
END:VEVENT
BEGIN:VEVENT
DTSTART;TZID=America/Denver:20251025T210000
DTEND;TZID=America/Denver:20251026T013000
DTSTAMP:20260423T153307
CREATED:20240711T212233Z
LAST-MODIFIED:20251003T190420Z
UID:7118-1761426000-1761442200@canvas-artistry.com
SUMMARY:DJ Mischievous
DESCRIPTION:
URL:https://canvas-artistry.com/event/dj-mischievous/
CATEGORIES:DJ Music
ATTACH;FMTTYPE=image/jpeg:https://canvas-artistry.com/wp-content/uploads/2024/07/image4.jpeg
END:VEVENT
BEGIN:VEVENT
DTSTART;TZID=America/Denver:20251025T173000
DTEND;TZID=America/Denver:20251025T203000
DTSTAMP:20260423T153307
CREATED:20250926T201245Z
LAST-MODIFIED:20250926T201245Z
UID:9521-1761413400-1761424200@canvas-artistry.com
SUMMARY:SWAG BAND
DESCRIPTION:
URL:https://canvas-artistry.com/event/swag-band/
CATEGORIES:Live Music
END:VEVENT
BEGIN:VEVENT
DTSTART;TZID=America/Denver:20251023T190000
DTEND;TZID=America/Denver:20251024T000000
DTSTAMP:20260423T153307
CREATED:20220818T205622Z
LAST-MODIFIED:20251003T190923Z
UID:4774-1761246000-1761264000@canvas-artistry.com
SUMMARY:DJ LiL Salsa
DESCRIPTION:
URL:https://canvas-artistry.com/event/lil-salsa-friends-2023-08-15/
CATEGORIES:DJ Music
ATTACH;FMTTYPE=image/jpeg:https://canvas-artistry.com/wp-content/uploads/2022/08/Screenshot_20220818-144618_Instagram.jpg
END:VEVENT
BEGIN:VEVENT
DTSTART;TZID=America/Denver:20251019T120000
DTEND;TZID=America/Denver:20251019T163000
DTSTAMP:20260423T153307
CREATED:20240104T191244Z
LAST-MODIFIED:20250926T184854Z
UID:6574-1760875200-1760891400@canvas-artistry.com
SUMMARY:DJ CELLO
DESCRIPTION:
URL:https://canvas-artistry.com/event/dj-cello-2024-01-28/
CATEGORIES:DJ Music
ATTACH;FMTTYPE=image/jpeg:https://canvas-artistry.com/wp-content/uploads/2022/06/0-1.jpg
END:VEVENT
BEGIN:VEVENT
DTSTART;TZID=America/Denver:20251018T173000
DTEND;TZID=America/Denver:20251018T203000
DTSTAMP:20260423T153307
CREATED:20221110T204919Z
LAST-MODIFIED:20250926T200351Z
UID:1430-1760808600-1760819400@canvas-artistry.com
SUMMARY:Chillhouse with Hillary Smith
DESCRIPTION:
URL:https://canvas-artistry.com/event/chillhouse-with-hillary-smith-3/
CATEGORIES:Live Music
ATTACH;FMTTYPE=image/jpeg:https://canvas-artistry.com/wp-content/uploads/2024/02/thumbnail_image9.jpg
END:VEVENT
BEGIN:VEVENT
DTSTART;TZID=America/Denver:20251017T080000
DTEND;TZID=America/Denver:20251017T170000
DTSTAMP:20260423T153307
CREATED:20250926T195800Z
LAST-MODIFIED:20250926T195800Z
UID:9518-1760688000-1760720400@canvas-artistry.com
SUMMARY:DJ CELLO   &   DJ MILES B
DESCRIPTION:
URL:https://canvas-artistry.com/event/dj-cello-dj-miles-b/
CATEGORIES:DJ Music,Live Music
END:VEVENT
BEGIN:VEVENT
DTSTART;TZID=America/Denver:20251012T120000
DTEND;TZID=America/Denver:20251012T163000
DTSTAMP:20260423T153307
CREATED:20240104T191244Z
LAST-MODIFIED:20250926T184804Z
UID:6578-1760270400-1760286600@canvas-artistry.com
SUMMARY:DJ CELLO
DESCRIPTION:
URL:https://canvas-artistry.com/event/dj-cello-2024-02-25/
CATEGORIES:DJ Music
ATTACH;FMTTYPE=image/jpeg:https://canvas-artistry.com/wp-content/uploads/2022/06/0-1.jpg
END:VEVENT
BEGIN:VEVENT
DTSTART;TZID=America/Denver:20251010T173000
DTEND;TZID=America/Denver:20251010T203000
DTSTAMP:20260423T153307
CREATED:20230223T204513Z
LAST-MODIFIED:20250926T190344Z
UID:3130-1760117400-1760128200@canvas-artistry.com
SUMMARY:Rodney Bowe
DESCRIPTION:
URL:https://canvas-artistry.com/event/rodney-bowe-10/
CATEGORIES:Live Music
ATTACH;FMTTYPE=image/jpeg:https://canvas-artistry.com/wp-content/uploads/2023/04/image0.jpeg
END:VEVENT
BEGIN:VEVENT
DTSTART;TZID=America/Denver:20251004T173000
DTEND;TZID=America/Denver:20251004T203000
DTSTAMP:20260423T153307
CREATED:20250926T174722Z
LAST-MODIFIED:20250926T174722Z
UID:9515-1759599000-1759609800@canvas-artistry.com
SUMMARY:JUST INCREDIBLE
DESCRIPTION:
URL:https://canvas-artistry.com/event/just-incredible/
CATEGORIES:Live Music
END:VEVENT
BEGIN:VEVENT
DTSTART;TZID=America/Denver:20250928T120000
DTEND;TZID=America/Denver:20250928T160000
DTSTAMP:20260423T153307
CREATED:20240104T191244Z
LAST-MODIFIED:20250826T224214Z
UID:6745-1759060800-1759075200@canvas-artistry.com
SUMMARY:DJ CELLO
DESCRIPTION:
URL:https://canvas-artistry.com/event/dj-cello-2024-01-14-2025-03-02/
CATEGORIES:DJ Music
ATTACH;FMTTYPE=image/jpeg:https://canvas-artistry.com/wp-content/uploads/2022/06/0-1.jpg
END:VEVENT
BEGIN:VEVENT
DTSTART;TZID=America/Denver:20250921T120000
DTEND;TZID=America/Denver:20250921T160000
DTSTAMP:20260423T153307
CREATED:20240104T191244Z
LAST-MODIFIED:20250826T224128Z
UID:6765-1758456000-1758470400@canvas-artistry.com
SUMMARY:DJ CELLO
DESCRIPTION:
URL:https://canvas-artistry.com/event/dj-cello-2026-01-04/
CATEGORIES:DJ Music
ATTACH;FMTTYPE=image/jpeg:https://canvas-artistry.com/wp-content/uploads/2022/06/0-1.jpg
END:VEVENT
BEGIN:VEVENT
DTSTART;TZID=America/Denver:20250920T173000
DTEND;TZID=America/Denver:20250920T203000
DTSTAMP:20260423T153307
CREATED:20250417T204017Z
LAST-MODIFIED:20250826T223939Z
UID:9124-1758389400-1758400200@canvas-artistry.com
SUMMARY:Stirred not Shaken
DESCRIPTION:
URL:https://canvas-artistry.com/event/stirred-not-shaken/
CATEGORIES:Live Music
ATTACH;FMTTYPE=image/jpeg:https://canvas-artistry.com/wp-content/uploads/2025/04/unnamed-scaled.jpg
END:VEVENT
BEGIN:VEVENT
DTSTART;TZID=America/Denver:20250919T173000
DTEND;TZID=America/Denver:20250919T203000
DTSTAMP:20260423T153307
CREATED:20250826T224830Z
LAST-MODIFIED:20250826T224830Z
UID:9464-1758303000-1758313800@canvas-artistry.com
SUMMARY:FUNK REVIVAL
DESCRIPTION:
URL:https://canvas-artistry.com/event/funk-revival/
CATEGORIES:Live Music
END:VEVENT
BEGIN:VEVENT
DTSTART;TZID=America/Denver:20250905T173000
DTEND;TZID=America/Denver:20250905T203000
DTSTAMP:20260423T153307
CREATED:20240510T202618Z
LAST-MODIFIED:20250826T215926Z
UID:7088-1757093400-1757104200@canvas-artistry.com
SUMMARY:Lo Phat
DESCRIPTION:
URL:https://canvas-artistry.com/event/lo-phat/
CATEGORIES:Live Music
ATTACH;FMTTYPE=image/png:https://canvas-artistry.com/wp-content/uploads/2024/02/Color-2023.png
END:VEVENT
BEGIN:VEVENT
DTSTART;TZID=America/Denver:20250831T173000
DTEND;TZID=America/Denver:20250831T203000
DTSTAMP:20260423T153307
CREATED:20230919T203946Z
LAST-MODIFIED:20250801T202240Z
UID:5118-1756661400-1756672200@canvas-artistry.com
SUMMARY:DJ Mel Man
DESCRIPTION:
URL:https://canvas-artistry.com/event/dj-mel-man/
CATEGORIES:DJ Music
ATTACH;FMTTYPE=image/png:https://canvas-artistry.com/wp-content/uploads/2022/06/0-1.png
END:VEVENT
BEGIN:VEVENT
DTSTART;TZID=America/Denver:20250824T163000
DTEND;TZID=America/Denver:20250824T200000
DTSTAMP:20260423T153307
CREATED:20230420T182857Z
LAST-MODIFIED:20250801T195904Z
UID:3945-1756053000-1756065600@canvas-artistry.com
SUMMARY:DJ Diamond Tip
DESCRIPTION:
URL:https://canvas-artistry.com/event/dj-diamond-tip-2/
CATEGORIES:DJ Music
ATTACH;FMTTYPE=image/jpeg:https://canvas-artistry.com/wp-content/uploads/2024/02/thumbnail_image7.jpg
END:VEVENT
BEGIN:VEVENT
DTSTART;TZID=America/Denver:20250817T163000
DTEND;TZID=America/Denver:20250817T200000
DTSTAMP:20260423T153307
CREATED:20240725T174228Z
LAST-MODIFIED:20250731T211616Z
UID:7120-1755448200-1755460800@canvas-artistry.com
SUMMARY:DJ Mel Man
DESCRIPTION:
URL:https://canvas-artistry.com/event/dj-mel-man-2/
CATEGORIES:DJ Music
ATTACH;FMTTYPE=image/png:https://canvas-artistry.com/wp-content/uploads/2022/06/0-1.png
END:VEVENT
BEGIN:VEVENT
DTSTART;TZID=America/Denver:20250815T210000
DTEND;TZID=America/Denver:20250816T013000
DTSTAMP:20260423T153307
CREATED:20240725T205217Z
LAST-MODIFIED:20250731T210943Z
UID:7129-1755291600-1755307800@canvas-artistry.com
SUMMARY:Dj Diamond Tip
DESCRIPTION:
URL:https://canvas-artistry.com/event/dj-diamond-tip-4/
CATEGORIES:DJ Music
ATTACH;FMTTYPE=image/jpeg:https://canvas-artistry.com/wp-content/uploads/2024/02/168454849_148313770631701_2212056477929728984_n.jpg
END:VEVENT
BEGIN:VEVENT
DTSTART;TZID=America/Denver:20250815T173000
DTEND;TZID=America/Denver:20250815T203000
DTSTAMP:20260423T153307
CREATED:20241031T215103Z
LAST-MODIFIED:20250731T210803Z
UID:9044-1755279000-1755289800@canvas-artistry.com
SUMMARY:Lo Phat
DESCRIPTION:
URL:https://canvas-artistry.com/event/lo-phat-2/
CATEGORIES:Live Music
ATTACH;FMTTYPE=image/png:https://canvas-artistry.com/wp-content/uploads/2024/02/Color-2023.png
END:VEVENT
BEGIN:VEVENT
DTSTART;TZID=America/Denver:20250809T173000
DTEND;TZID=America/Denver:20250809T203000
DTSTAMP:20260423T153307
CREATED:20250403T203041Z
LAST-MODIFIED:20250731T041946Z
UID:9107-1754760600-1754771400@canvas-artistry.com
SUMMARY:Stirred not Shaken
DESCRIPTION:
URL:https://canvas-artistry.com/event/stirred/
CATEGORIES:Live Music
ATTACH;FMTTYPE=image/jpeg:https://canvas-artistry.com/wp-content/uploads/2025/04/image0-1.jpeg
END:VEVENT
BEGIN:VEVENT
DTSTART;TZID=America/Denver:20250809T110000
DTEND;TZID=America/Denver:20250809T150000
DTSTAMP:20260423T153307
CREATED:20250731T205807Z
LAST-MODIFIED:20250731T205807Z
UID:9457-1754737200-1754751600@canvas-artistry.com
SUMMARY:BIEBER BRUNCH
DESCRIPTION:
URL:https://canvas-artistry.com/event/bieber-brunch/
CATEGORIES:DJ Music
ATTACH;FMTTYPE=image/png:https://canvas-artistry.com/wp-content/uploads/2025/07/unnamed.png
END:VEVENT
BEGIN:VEVENT
DTSTART;TZID=America/Denver:20250808T173000
DTEND;TZID=America/Denver:20250808T203000
DTSTAMP:20260423T153307
CREATED:20230104T230404Z
LAST-MODIFIED:20250730T214333Z
UID:2351-1754674200-1754685000@canvas-artistry.com
SUMMARY:Hicks and Fowler
DESCRIPTION:
URL:https://canvas-artistry.com/event/hicks-and-fowler/
CATEGORIES:Live Music
ATTACH;FMTTYPE=image/jpeg:https://canvas-artistry.com/wp-content/uploads/2023/02/image2.jpeg
END:VEVENT
BEGIN:VEVENT
DTSTART;TZID=America/Denver:20250803T163000
DTEND;TZID=America/Denver:20250803T200000
DTSTAMP:20260423T153307
CREATED:20230202T221250Z
LAST-MODIFIED:20250730T195202Z
UID:3051-1754238600-1754251200@canvas-artistry.com
SUMMARY:DJ Diamond Tip
DESCRIPTION:
URL:https://canvas-artistry.com/event/dj-diamond-tip/
CATEGORIES:DJ Music
ATTACH;FMTTYPE=image/jpeg:https://canvas-artistry.com/wp-content/uploads/2023/03/image0.jpeg
END:VEVENT
BEGIN:VEVENT
DTSTART;TZID=America/Denver:20250705T173000
DTEND;TZID=America/Denver:20250705T203000
DTSTAMP:20260423T153307
CREATED:20250619T180025Z
LAST-MODIFIED:20250619T183133Z
UID:9142-1751736600-1751747400@canvas-artistry.com
SUMMARY:MOTHER ROAD BAND
DESCRIPTION:
URL:https://canvas-artistry.com/event/mother-road-band/
CATEGORIES:Live Music
ATTACH;FMTTYPE=image/jpeg:https://canvas-artistry.com/wp-content/uploads/2025/06/image0.jpeg
END:VEVENT
BEGIN:VEVENT
DTSTART;VALUE=DATE:20250704
DTEND;VALUE=DATE:20250705
DTSTAMP:20260423T153307
CREATED:20241126T211120Z
LAST-MODIFIED:20250619T175718Z
UID:9052-1751587200-1751673599@canvas-artistry.com
SUMMARY:CLOSED FOR THE HOLIDAY
DESCRIPTION:
URL:https://canvas-artistry.com/event/closed-for-the-holiday-4/
ATTACH;FMTTYPE=image/jpeg:https://canvas-artistry.com/wp-content/uploads/2023/10/stores-closed-thanksgiving-2020-jpg.jpg
END:VEVENT
BEGIN:VEVENT
DTSTART;TZID=America/Denver:20250627T210000
DTEND;TZID=America/Denver:20250628T013000
DTSTAMP:20260423T153307
CREATED:20230323T193409Z
LAST-MODIFIED:20250513T205842Z
UID:3720-1751058000-1751074200@canvas-artistry.com
SUMMARY:DJ Q
DESCRIPTION:
URL:https://canvas-artistry.com/event/dj-q/
CATEGORIES:DJ Music
ATTACH;FMTTYPE=image/jpeg:https://canvas-artistry.com/wp-content/uploads/2024/07/image5.jpeg
END:VEVENT
BEGIN:VEVENT
DTSTART;TZID=America/Denver:20250523T210000
DTEND;TZID=America/Denver:20250524T013000
DTSTAMP:20260423T153307
CREATED:20231026T185113Z
LAST-MODIFIED:20250417T191812Z
UID:5458-1748034000-1748050200@canvas-artistry.com
SUMMARY:Dj Diamond Tip
DESCRIPTION:
URL:https://canvas-artistry.com/event/dj-diamond-tip-3/
CATEGORIES:DJ Music
ATTACH;FMTTYPE=image/jpeg:https://canvas-artistry.com/wp-content/uploads/2024/02/thumbnail_image7.jpg
END:VEVENT
END:VCALENDAR