BEGIN:VCALENDAR
VERSION:2.0
PRODID:-//Canvas Artistry - ECPv6.15.20//NONSGML v1.0//EN
CALSCALE:GREGORIAN
METHOD:PUBLISH
X-ORIGINAL-URL:https://canvas-artistry.com
X-WR-CALDESC:Events for Canvas Artistry
REFRESH-INTERVAL;VALUE=DURATION:PT1H
X-Robots-Tag:noindex
X-PUBLISHED-TTL:PT1H
BEGIN:VTIMEZONE
TZID:America/Denver
BEGIN:DAYLIGHT
TZOFFSETFROM:-0700
TZOFFSETTO:-0600
TZNAME:MDT
DTSTART:20220313T090000
END:DAYLIGHT
BEGIN:STANDARD
TZOFFSETFROM:-0600
TZOFFSETTO:-0700
TZNAME:MST
DTSTART:20221106T080000
END:STANDARD
BEGIN:DAYLIGHT
TZOFFSETFROM:-0700
TZOFFSETTO:-0600
TZNAME:MDT
DTSTART:20230312T090000
END:DAYLIGHT
BEGIN:STANDARD
TZOFFSETFROM:-0600
TZOFFSETTO:-0700
TZNAME:MST
DTSTART:20231105T080000
END:STANDARD
BEGIN:DAYLIGHT
TZOFFSETFROM:-0700
TZOFFSETTO:-0600
TZNAME:MDT
DTSTART:20240310T090000
END:DAYLIGHT
BEGIN:STANDARD
TZOFFSETFROM:-0600
TZOFFSETTO:-0700
TZNAME:MST
DTSTART:20241103T080000
END:STANDARD
BEGIN:DAYLIGHT
TZOFFSETFROM:-0700
TZOFFSETTO:-0600
TZNAME:MDT
DTSTART:20250309T090000
END:DAYLIGHT
BEGIN:STANDARD
TZOFFSETFROM:-0600
TZOFFSETTO:-0700
TZNAME:MST
DTSTART:20251102T080000
END:STANDARD
END:VTIMEZONE
BEGIN:VEVENT
DTSTART;TZID=America/Denver:20240420T173000
DTEND;TZID=America/Denver:20240420T203000
DTSTAMP:20260423T232651
CREATED:20230223T204709Z
LAST-MODIFIED:20240403T184033Z
UID:3132-1713634200-1713645000@canvas-artistry.com
SUMMARY:Burque Sol
DESCRIPTION:
URL:https://canvas-artistry.com/event/burque-sol/
CATEGORIES:Live Music
ATTACH;FMTTYPE=image/jpeg:https://canvas-artistry.com/wp-content/uploads/2023/03/image.jpeg
END:VEVENT
BEGIN:VEVENT
DTSTART;VALUE=DATE:20240331
DTEND;VALUE=DATE:20240401
DTSTAMP:20260423T232651
CREATED:20240104T191244Z
LAST-MODIFIED:20240201T200425Z
UID:6584-1711843200-1711929599@canvas-artistry.com
SUMMARY:Closed For Easter Sunday
DESCRIPTION:
URL:https://canvas-artistry.com/event/dj-cello-2024-03-31/
ATTACH;FMTTYPE=image/jpeg:https://canvas-artistry.com/wp-content/uploads/2023/10/stores-closed-thanksgiving-2020-jpg.jpg
END:VEVENT
BEGIN:VEVENT
DTSTART;TZID=America/Denver:20240323T173000
DTEND;TZID=America/Denver:20240323T203000
DTSTAMP:20260423T232651
CREATED:20220623T180246Z
LAST-MODIFIED:20240202T235805Z
UID:944-1711215000-1711225800@canvas-artistry.com
SUMMARY:Monica & The Krew
DESCRIPTION:
URL:https://canvas-artistry.com/event/monica-the-krew/
CATEGORIES:Live Music
ATTACH;FMTTYPE=image/jpeg:https://canvas-artistry.com/wp-content/uploads/2024/02/thumbnail_image4.jpg
END:VEVENT
BEGIN:VEVENT
DTSTART;TZID=America/Denver:20240312T190000
DTEND;TZID=America/Denver:20240312T220000
DTSTAMP:20260423T232651
CREATED:20240103T211356Z
LAST-MODIFIED:20240104T225837Z
UID:5661-1710270000-1710280800@canvas-artistry.com
SUMMARY:KARAOKE NIGHT
DESCRIPTION:
URL:https://canvas-artistry.com/event/karaoke-night-2024-03-12/
CATEGORIES:Live Music
END:VEVENT
BEGIN:VEVENT
DTSTART;TZID=America/Denver:20240217T173000
DTEND;TZID=America/Denver:20240217T203000
DTSTAMP:20260423T232651
CREATED:20220623T182543Z
LAST-MODIFIED:20240206T172245Z
UID:959-1708191000-1708201800@canvas-artistry.com
SUMMARY:Chillhouse with Toni Morgan
DESCRIPTION:
URL:https://canvas-artistry.com/event/chillhouse-with-hillary-smith-2/
CATEGORIES:Live Music
ATTACH;FMTTYPE=image/jpeg:https://canvas-artistry.com/wp-content/uploads/2024/02/thumbnail_image0-4.jpg
END:VEVENT
BEGIN:VEVENT
DTSTART;TZID=America/Denver:20240210T173000
DTEND;TZID=America/Denver:20240210T203000
DTSTAMP:20260423T232651
CREATED:20231026T183323Z
LAST-MODIFIED:20240104T193408Z
UID:5449-1707586200-1707597000@canvas-artistry.com
SUMMARY:Trinity Soul
DESCRIPTION:
URL:https://canvas-artistry.com/event/trinity-soul-3/
CATEGORIES:Live Music
ATTACH;FMTTYPE=image/jpeg:https://canvas-artistry.com/wp-content/uploads/2023/02/261F4AFD-5CB1-42E6-A048-3D5D15024237.jpeg
END:VEVENT
BEGIN:VEVENT
DTSTART;TZID=America/Denver:20240202T210000
DTEND;TZID=America/Denver:20240203T013000
DTSTAMP:20260423T232651
CREATED:20230622T192442Z
LAST-MODIFIED:20240203T024730Z
UID:4634-1706907600-1706923800@canvas-artistry.com
SUMMARY:DJ Q & Kid
DESCRIPTION:
URL:https://canvas-artistry.com/event/dj-q-2/
CATEGORIES:DJ Music
ATTACH;FMTTYPE=image/jpeg:https://canvas-artistry.com/wp-content/uploads/2024/02/thumbnail_image10.jpg
END:VEVENT
BEGIN:VEVENT
DTSTART;TZID=America/Denver:20240126T173000
DTEND;TZID=America/Denver:20240126T203000
DTSTAMP:20260423T232651
CREATED:20230919T202756Z
LAST-MODIFIED:20240103T210318Z
UID:4967-1706290200-1706301000@canvas-artistry.com
SUMMARY:Trinity Soul
DESCRIPTION:
URL:https://canvas-artistry.com/event/trinity-soul-2/
CATEGORIES:Live Music
ATTACH;FMTTYPE=image/jpeg:https://canvas-artistry.com/wp-content/uploads/2023/02/261F4AFD-5CB1-42E6-A048-3D5D15024237.jpeg
END:VEVENT
BEGIN:VEVENT
DTSTART;TZID=America/Denver:20240105T173000
DTEND;TZID=America/Denver:20240105T203000
DTSTAMP:20260423T232651
CREATED:20230202T221133Z
LAST-MODIFIED:20240103T200801Z
UID:3049-1704475800-1704486600@canvas-artistry.com
SUMMARY:Trinity Soul
DESCRIPTION:
URL:https://canvas-artistry.com/event/trinity-soul/
CATEGORIES:Live Music
ATTACH;FMTTYPE=image/jpeg:https://canvas-artistry.com/wp-content/uploads/2023/02/261F4AFD-5CB1-42E6-A048-3D5D15024237.jpeg
END:VEVENT
BEGIN:VEVENT
DTSTART;TZID=America/Denver:20231231T120000
DTEND;TZID=America/Denver:20231231T170000
DTSTAMP:20260423T232651
CREATED:20231228T223818Z
LAST-MODIFIED:20231228T223818Z
UID:5636-1704024000-1704042000@canvas-artistry.com
SUMMARY:NEW YEARS EVE BRUNCH PARTY
DESCRIPTION:
URL:https://canvas-artistry.com/event/new-years-eve-brunch-party/
CATEGORIES:DJ Music
END:VEVENT
BEGIN:VEVENT
DTSTART;VALUE=DATE:20231231
DTEND;VALUE=DATE:20240101
DTSTAMP:20260423T232651
CREATED:20231130T200822Z
LAST-MODIFIED:20231130T201119Z
UID:5586-1703980800-1704067199@canvas-artistry.com
SUMMARY:New Years Party
DESCRIPTION:
URL:https://canvas-artistry.com/event/new-years-party/
CATEGORIES:DJ Music,Live Music
ATTACH;FMTTYPE=image/jpeg:https://canvas-artistry.com/wp-content/uploads/2023/11/image1.jpeg
END:VEVENT
BEGIN:VEVENT
DTSTART;VALUE=DATE:20231224
DTEND;VALUE=DATE:20231225
DTSTAMP:20260423T232651
CREATED:20231026T192356Z
LAST-MODIFIED:20231026T192356Z
UID:5520-1703376000-1703462399@canvas-artistry.com
SUMMARY:CLOSED FOR THE HOLIDAY
DESCRIPTION:
URL:https://canvas-artistry.com/event/closed-for-the-holiday/
ATTACH;FMTTYPE=image/jpeg:https://canvas-artistry.com/wp-content/uploads/2023/10/stores-closed-thanksgiving-2020-jpg.jpg
END:VEVENT
BEGIN:VEVENT
DTSTART;TZID=America/Denver:20231223T173000
DTEND;TZID=America/Denver:20231223T203000
DTSTAMP:20260423T232651
CREATED:20230811T200057Z
LAST-MODIFIED:20231026T185839Z
UID:4885-1703352600-1703363400@canvas-artistry.com
SUMMARY:Keeping up with the Joneses
DESCRIPTION:
URL:https://canvas-artistry.com/event/keeping-up-with-the-joneses-3/
CATEGORIES:Live Music
ATTACH;FMTTYPE=image/jpeg:https://canvas-artistry.com/wp-content/uploads/2023/03/image0-1.jpeg
END:VEVENT
BEGIN:VEVENT
DTSTART;TZID=America/Denver:20231209T173000
DTEND;TZID=America/Denver:20231209T203000
DTSTAMP:20260423T232651
CREATED:20231026T183839Z
LAST-MODIFIED:20240201T191031Z
UID:5452-1702143000-1702153800@canvas-artistry.com
SUMMARY:Monica and the Krew
DESCRIPTION:
URL:https://canvas-artistry.com/event/monica-and-the-krew/
CATEGORIES:Live Music
ATTACH;FMTTYPE=image/jpeg:https://canvas-artistry.com/wp-content/uploads/2024/02/IMG_1546.jpg
END:VEVENT
BEGIN:VEVENT
DTSTART;TZID=America/Denver:20231208T173000
DTEND;TZID=America/Denver:20231208T203000
DTSTAMP:20260423T232651
CREATED:20230622T174305Z
LAST-MODIFIED:20231026T183622Z
UID:4548-1702056600-1702067400@canvas-artistry.com
SUMMARY:Ron Crowder
DESCRIPTION:
URL:https://canvas-artistry.com/event/ron-crowder-2/
CATEGORIES:Live Music
ATTACH;FMTTYPE=image/jpeg:https://canvas-artistry.com/wp-content/uploads/2023/04/thumbnail_image0.jpg
END:VEVENT
BEGIN:VEVENT
DTSTART;TZID=America/Denver:20231123T190000
DTEND;TZID=America/Denver:20231124T000000
DTSTAMP:20260423T232651
CREATED:20231026T182114Z
LAST-MODIFIED:20231026T190717Z
UID:5291-1700766000-1700784000@canvas-artistry.com
SUMMARY:CLOSED FOR THANKSGIVING
DESCRIPTION:
URL:https://canvas-artistry.com/event/speed-one-2023-11-23/
CATEGORIES:DJ Music
ATTACH;FMTTYPE=image/jpeg:https://canvas-artistry.com/wp-content/uploads/2023/10/stores-closed-thanksgiving-2020-jpg.jpg
END:VEVENT
BEGIN:VEVENT
DTSTART;TZID=America/Denver:20231111T173000
DTEND;TZID=America/Denver:20231111T203000
DTSTAMP:20260423T232651
CREATED:20230811T195939Z
LAST-MODIFIED:20231026T173735Z
UID:4883-1699723800-1699734600@canvas-artistry.com
SUMMARY:Keeping up with the Joneses
DESCRIPTION:
URL:https://canvas-artistry.com/event/keeping-up-with-the-joneses-2/
CATEGORIES:Live Music
ATTACH;FMTTYPE=image/jpeg:https://canvas-artistry.com/wp-content/uploads/2023/03/image0-1.jpeg
END:VEVENT
BEGIN:VEVENT
DTSTART;TZID=America/Denver:20231029T173000
DTEND;TZID=America/Denver:20231029T203000
DTSTAMP:20260423T232651
CREATED:20230323T193657Z
LAST-MODIFIED:20230919T210055Z
UID:3722-1698600600-1698611400@canvas-artistry.com
SUMMARY:Raven Rutherford & Her Sweet Potato Pie Band
DESCRIPTION:
URL:https://canvas-artistry.com/event/raven-rutherford-her-sweet-potato-pie-band/
CATEGORIES:Live Music
ATTACH;FMTTYPE=image/jpeg:https://canvas-artistry.com/wp-content/uploads/2023/08/346876134_2100573033483726_1499402041264850837_n.jpg
END:VEVENT
BEGIN:VEVENT
DTSTART;TZID=America/Denver:20231028T173000
DTEND;TZID=America/Denver:20231028T203000
DTSTAMP:20260423T232651
CREATED:20230622T192113Z
LAST-MODIFIED:20230919T205956Z
UID:4628-1698514200-1698525000@canvas-artistry.com
SUMMARY:Kari Simmons
DESCRIPTION:
URL:https://canvas-artistry.com/event/kari-simmons/
CATEGORIES:Live Music
ATTACH;FMTTYPE=image/jpeg:https://canvas-artistry.com/wp-content/uploads/2023/07/FB_IMG_1690483815843.jpg
END:VEVENT
BEGIN:VEVENT
DTSTART;TZID=America/Denver:20231021T140000
DTEND;TZID=America/Denver:20231021T180000
DTSTAMP:20260423T232651
CREATED:20231021T010624Z
LAST-MODIFIED:20231021T010624Z
UID:5172-1697896800-1697911200@canvas-artistry.com
SUMMARY:BERIMBAU DE OURO
DESCRIPTION:
URL:https://canvas-artistry.com/event/berimbau-de-ouro/
CATEGORIES:DJ Music
END:VEVENT
BEGIN:VEVENT
DTSTART;TZID=America/Denver:20231020T173000
DTEND;TZID=America/Denver:20231020T203000
DTSTAMP:20260423T232651
CREATED:20231020T185531Z
LAST-MODIFIED:20230919T205516Z
UID:3638-1697823000-1697833800@canvas-artistry.com
SUMMARY:Keeping up with the Joneses
DESCRIPTION:
URL:https://canvas-artistry.com/event/keeping-up-with-the-joneses/
CATEGORIES:Live Music
ATTACH;FMTTYPE=image/jpeg:https://canvas-artistry.com/wp-content/uploads/2023/03/image0-1.jpeg
END:VEVENT
BEGIN:VEVENT
DTSTART;TZID=America/Denver:20231007T173000
DTEND;TZID=America/Denver:20231007T203000
DTSTAMP:20260423T232651
CREATED:20230919T202630Z
LAST-MODIFIED:20230919T205550Z
UID:4965-1696699800-1696710600@canvas-artistry.com
SUMMARY:Night Moves
DESCRIPTION:
URL:https://canvas-artistry.com/event/night-moves-2/
CATEGORIES:Live Music
ATTACH;FMTTYPE=image/jpeg:https://canvas-artistry.com/wp-content/uploads/2023/08/293014433_440657394734479_4459500408401424641_n.jpg
END:VEVENT
BEGIN:VEVENT
DTSTART;TZID=America/Denver:20230929T173000
DTEND;TZID=America/Denver:20230929T203000
DTSTAMP:20260423T232651
CREATED:20230622T180443Z
LAST-MODIFIED:20230811T202157Z
UID:4626-1696008600-1696019400@canvas-artistry.com
SUMMARY:Ron Crowder
DESCRIPTION:
URL:https://canvas-artistry.com/event/ron-crowder-3/
CATEGORIES:Live Music
ATTACH;FMTTYPE=image/jpeg:https://canvas-artistry.com/wp-content/uploads/2023/04/thumbnail_image0.jpg
END:VEVENT
BEGIN:VEVENT
DTSTART;TZID=America/Denver:20230903T173000
DTEND;TZID=America/Denver:20230903T203000
DTSTAMP:20260423T232651
CREATED:20230811T194430Z
LAST-MODIFIED:20230811T194430Z
UID:4801-1693762200-1693773000@canvas-artistry.com
SUMMARY:Kari Simmons
DESCRIPTION:
URL:https://canvas-artistry.com/event/kari-simmons-2/
CATEGORIES:Live Music
ATTACH;FMTTYPE=image/jpeg:https://canvas-artistry.com/wp-content/uploads/2023/07/FB_IMG_1690483815843.jpg
END:VEVENT
BEGIN:VEVENT
DTSTART;TZID=America/Denver:20230811T173000
DTEND;TZID=America/Denver:20230811T203000
DTSTAMP:20260423T232651
CREATED:20230323T192725Z
LAST-MODIFIED:20230727T184244Z
UID:3715-1691775000-1691785800@canvas-artistry.com
SUMMARY:Ron Crowder
DESCRIPTION:
URL:https://canvas-artistry.com/event/ron-crowder/
CATEGORIES:Live Music
ATTACH;FMTTYPE=image/jpeg:https://canvas-artistry.com/wp-content/uploads/2023/04/thumbnail_image0.jpg
END:VEVENT
BEGIN:VEVENT
DTSTART;TZID=America/Denver:20230729T173000
DTEND;TZID=America/Denver:20230729T203000
DTSTAMP:20260423T232651
CREATED:20221110T221322Z
LAST-MODIFIED:20230622T192544Z
UID:1447-1690651800-1690662600@canvas-artistry.com
SUMMARY:Dee Brown
DESCRIPTION:
URL:https://canvas-artistry.com/event/dee-brown-2/
CATEGORIES:Live Music
ATTACH;FMTTYPE=image/jpeg:https://canvas-artistry.com/wp-content/uploads/2022/06/Screenshot_20220623-120244_Instagram.jpg
END:VEVENT
BEGIN:VEVENT
DTSTART;TZID=America/Denver:20230728T173000
DTEND;TZID=America/Denver:20230728T203000
DTSTAMP:20260423T232651
CREATED:20230622T192307Z
LAST-MODIFIED:20230622T192307Z
UID:4632-1690565400-1690576200@canvas-artistry.com
SUMMARY:Neo Chops
DESCRIPTION:
URL:https://canvas-artistry.com/event/neo-chops-2/
CATEGORIES:Live Music
END:VEVENT
BEGIN:VEVENT
DTSTART;TZID=America/Denver:20230720T190000
DTEND;TZID=America/Denver:20230720T233000
DTSTAMP:20260423T232651
CREATED:20230713T190346Z
LAST-MODIFIED:20230713T190346Z
UID:4671-1689879600-1689895800@canvas-artistry.com
SUMMARY:Picante Tuesdays
DESCRIPTION:
URL:https://canvas-artistry.com/event/picante-tuesdays-2023-07-20/
CATEGORIES:DJ Music
END:VEVENT
BEGIN:VEVENT
DTSTART;TZID=America/Denver:20230713T190000
DTEND;TZID=America/Denver:20230713T233000
DTSTAMP:20260423T232651
CREATED:20230713T190346Z
LAST-MODIFIED:20230713T190346Z
UID:4669-1689274800-1689291000@canvas-artistry.com
SUMMARY:Picante Tuesdays
DESCRIPTION:
URL:https://canvas-artistry.com/event/picante-tuesdays/
CATEGORIES:DJ Music
END:VEVENT
BEGIN:VEVENT
DTSTART;TZID=America/Denver:20230701T173000
DTEND;TZID=America/Denver:20230701T203000
DTSTAMP:20260423T232651
CREATED:20230622T192216Z
LAST-MODIFIED:20230622T192216Z
UID:4630-1688232600-1688243400@canvas-artistry.com
SUMMARY:Neo Chops
DESCRIPTION:
URL:https://canvas-artistry.com/event/neo-chops/
CATEGORIES:Live Music
END:VEVENT
END:VCALENDAR